Workbook

Sheet ４月
B1: =年度設定シート!D1 -> 45748
B3: 氏 名
B6: 日 | C6: 曜日 | D6: 始業時刻 | E6: 終業時刻 | F6: 休憩時間（h） | G6: 実労働時間（h） | H6: 主な業務内容 | I6: 出勤印
B8: =B1 -> 45748 | C8: =TEXT(B8,"aaa") -> 火
B9: =B8+1 -> 45749 | C9: =TEXT(B9,"aaa") -> 水
B10: =B9+1 -> 45750 | C10: =TEXT(B10,"aaa") -> 木
B11: =B10+1 -> 45751 | C11: =TEXT(B11,"aaa") -> 金
B12: =B11+1 -> 45752 | C12: =TEXT(B12,"aaa") -> 土
B13: =B12+1 -> 45753 | C13: =TEXT(B13,"aaa") -> 日
B14: =B13+1 -> 45754 | C14: =TEXT(B14,"aaa") -> 月
B15: =B14+1 -> 45755 | C15: =TEXT(B15,"aaa") -> 火
B16: =B15+1 -> 45756 | C16: =TEXT(B16,"aaa") -> 水
B17: =B16+1 -> 45757 | C17: =TEXT(B17,"aaa") -> 木
B18: =B17+1 -> 45758 | C18: =TEXT(B18,"aaa") -> 金
B19: =B18+1 -> 45759 | C19: =TEXT(B19,"aaa") -> 土
B20: =B19+1 -> 45760 | C20: =TEXT(B20,"aaa") -> 日
... B37: =B36+1 -> 45777 | C37: =TEXT(B37,"aaa") -> 水
B38: 合計 | F38: =SUM(F8:F37) -> 0 | G38: =SUM(G8:G37) -> 0

Sheet ５月
B1: =年度設定シート!D2 -> 45778
B3: 氏 名
B6: 日 | C6: 曜日 | D6: 始業時刻 | E6: 終業時刻 | F6: 休憩時間（h） | G6: 実労働時間（h） | H6: 主な業務内容 | I6: 出勤印
B8: =B1 -> 45778 | C8: =TEXT(B8,"aaa") -> 木
B9: =B8+1 -> 45779 | C9: =TEXT(B9,"aaa") -> 金
B10: =B9+1 -> 45780 | C10: =TEXT(B10,"aaa") -> 土
B11: =B10+1 -> 45781 | C11: =TEXT(B11,"aaa") -> 日
B12: =B11+1 -> 45782 | C12: =TEXT(B12,"aaa") -> 月
B13: =B12+1 -> 45783 | C13: =TEXT(B13,"aaa") -> 火
B14: =B13+1 -> 45784 | C14: =TEXT(B14,"aaa") -> 水
B15: =B14+1 -> 45785 | C15: =TEXT(B15,"aaa") -> 木
B16: =B15+1 -> 45786 | C16: =TEXT(B16,"aaa") -> 金
B17: =B16+1 -> 45787 | C17: =TEXT(B17,"aaa") -> 土
B18: =B17+1 -> 45788 | C18: =TEXT(B18,"aaa") -> 日
B19: =B18+1 -> 45789 | C19: =TEXT(B19,"aaa") -> 月
B20: =B19+1 -> 45790 | C20: =TEXT(B20,"aaa") -> 火
... B38: =B37+1 -> 45808 | C38: =TEXT(B38,"aaa") -> 土
B39: 合計 | F39: =SUM(F8:F38) -> 0 | G39: =SUM(G8:G38) -> 0

Sheet ６月
B1: =年度設定シート!D3 -> 45809
B3: 氏 名
B6: 日 | C6: 曜日 | D6: 始業時刻 | E6: 終業時刻 | F6: 休憩時間（h） | G6: 実労働時間（h） | H6: 主な業務内容 | I6: 出勤印
B8: =B1 -> 45809 | C8: =TEXT(B8,"aaa") -> 日
B9: =B8+1 -> 45810 | C9: =TEXT(B9,"aaa") -> 月
B10: =B9+1 -> 45811 | C10: =TEXT(B10,"aaa") -> 火
B11: =B10+1 -> 45812 | C11: =TEXT(B11,"aaa") -> 水
B12: =B11+1 -> 45813 | C12: =TEXT(B12,"aaa") -> 木
B13: =B12+1 -> 45814 | C13: =TEXT(B13,"aaa") -> 金
B14: =B13+1 -> 45815 | C14: =TEXT(B14,"aaa") -> 土
B15: =B14+1 -> 45816 | C15: =TEXT(B15,"aaa") -> 日
B16: =B15+1 -> 45817 | C16: =TEXT(B16,"aaa") -> 月
B17: =B16+1 -> 45818 | C17: =TEXT(B17,"aaa") -> 火
B18: =B17+1 -> 45819 | C18: =TEXT(B18,"aaa") -> 水
B19: =B18+1 -> 45820 | C19: =TEXT(B19,"aaa") -> 木
B20: =B19+1 -> 45821 | C20: =TEXT(B20,"aaa") -> 金
... B37: =B36+1 -> 45838 | C37: =TEXT(B37,"aaa") -> 月
B38: 合計 | F38: =SUM(F8:F37) -> 0 | G38: =SUM(G8:G37) -> 0

Sheet ７月
B1: =年度設定シート!D4 -> 45839
B3: 氏 名
B6: 日 | C6: 曜日 | D6: 始業時刻 | E6: 終業時刻 | F6: 休憩時間（h） | G6: 実労働時間（h） | H6: 主な業務内容 | I6: 出勤印
B8: =B1 -> 45839 | C8: =TEXT(B8,"aaa") -> 火
B9: =B8+1 -> 45840 | C9: =TEXT(B9,"aaa") -> 水
B10: =B9+1 -> 45841 | C10: =TEXT(B10,"aaa") -> 木
B11: =B10+1 -> 45842 | C11: =TEXT(B11,"aaa") -> 金
B12: =B11+1 -> 45843 | C12: =TEXT(B12,"aaa") -> 土
B13: =B12+1 -> 45844 | C13: =TEXT(B13,"aaa") -> 日
B14: =B13+1 -> 45845 | C14: =TEXT(B14,"aaa") -> 月
B15: =B14+1 -> 45846 | C15: =TEXT(B15,"aaa") -> 火
B16: =B15+1 -> 45847 | C16: =TEXT(B16,"aaa") -> 水
B17: =B16+1 -> 45848 | C17: =TEXT(B17,"aaa") -> 木
B18: =B17+1 -> 45849 | C18: =TEXT(B18,"aaa") -> 金
B19: =B18+1 -> 45850 | C19: =TEXT(B19,"aaa") -> 土
B20: =B19+1 -> 45851 | C20: =TEXT(B20,"aaa") -> 日
... B38: =B37+1 -> 45869 | C38: =TEXT(B38,"aaa") -> 木
B39: 合計 | F39: =SUM(F8:F38) -> 0 | G39: =SUM(G8:G38) -> 0

Sheet ８月
B1: =年度設定シート!D5 -> 45870
B3: 氏 名
B6: 日 | C6: 曜日 | D6: 始業時刻 | E6: 終業時刻 | F6: 休憩時間（h） | G6: 実労働時間（h） | H6: 主な業務内容 | I6: 出勤印
B8: =B1 -> 45870 | C8: =TEXT(B8,"aaa") -> 金
B9: =B8+1 -> 45871 | C9: =TEXT(B9,"aaa") -> 土
B10: =B9+1 -> 45872 | C10: =TEXT(B10,"aaa") -> 日
B11: =B10+1 -> 45873 | C11: =TEXT(B11,"aaa") -> 月
B12: =B11+1 -> 45874 | C12: =TEXT(B12,"aaa") -> 火
B13: =B12+1 -> 45875 | C13: =TEXT(B13,"aaa") -> 水
B14: =B13+1 -> 45876 | C14: =TEXT(B14,"aaa") -> 木
B15: =B14+1 -> 45877 | C15: =TEXT(B15,"aaa") -> 金
B16: =B15+1 -> 45878 | C16: =TEXT(B16,"aaa") -> 土
B17: =B16+1 -> 45879 | C17: =TEXT(B17,"aaa") -> 日
B18: =B17+1 -> 45880 | C18: =TEXT(B18,"aaa") -> 月
B19: =B18+1 -> 45881 | C19: =TEXT(B19,"aaa") -> 火
B20: =B19+1 -> 45882 | C20: =TEXT(B20,"aaa") -> 水
... B38: =B37+1 -> 45900 | C38: =TEXT(B38,"aaa") -> 日
B39: 合計 | F39: =SUM(F8:F38) -> 0 | G39: =SUM(G8:G38) -> 0

Sheet ９月
B1: =年度設定シート!D6 -> 45901
B3: 氏 名
B6: 日 | C6: 曜日 | D6: 始業時刻 | E6: 終業時刻 | F6: 休憩時間（h） | G6: 実労働時間（h） | H6: 主な業務内容 | I6: 出勤印
B8: =B1 -> 45901 | C8: =TEXT(B8,"aaa") -> 月
B9: =B8+1 -> 45902 | C9: =TEXT(B9,"aaa") -> 火
B10: =B9+1 -> 45903 | C10: =TEXT(B10,"aaa") -> 水
B11: =B10+1 -> 45904 | C11: =TEXT(B11,"aaa") -> 木
B12: =B11+1 -> 45905 | C12: =TEXT(B12,"aaa") -> 金
B13: =B12+1 -> 45906 | C13: =TEXT(B13,"aaa") -> 土
B14: =B13+1 -> 45907 | C14: =TEXT(B14,"aaa") -> 日
B15: =B14+1 -> 45908 | C15: =TEXT(B15,"aaa") -> 月
B16: =B15+1 -> 45909 | C16: =TEXT(B16,"aaa") -> 火
B17: =B16+1 -> 45910 | C17: =TEXT(B17,"aaa") -> 水
B18: =B17+1 -> 45911 | C18: =TEXT(B18,"aaa") -> 木
B19: =B18+1 -> 45912 | C19: =TEXT(B19,"aaa") -> 金
B20: =B19+1 -> 45913 | C20: =TEXT(B20,"aaa") -> 土
... B37: =B36+1 -> 45930 | C37: =TEXT(B37,"aaa") -> 火
B38: 合計 | F38: =SUM(F8:F37) -> 0 | G38: =SUM(G8:G37) -> 0

Sheet １０月
B1: =年度設定シート!D7 -> 45931
B3: 氏 名
B6: 日 | C6: 曜日 | D6: 始業時刻 | E6: 終業時刻 | F6: 休憩時間（h） | G6: 実労働時間（h） | H6: 主な業務内容 | I6: 出勤印
B8: =B1 -> 45931 | C8: =TEXT(B8,"aaa") -> 水
B9: =B8+1 -> 45932 | C9: =TEXT(B9,"aaa") -> 木
B10: =B9+1 -> 45933 | C10: =TEXT(B10,"aaa") -> 金
B11: =B10+1 -> 45934 | C11: =TEXT(B11,"aaa") -> 土
B12: =B11+1 -> 45935 | C12: =TEXT(B12,"aaa") -> 日
B13: =B12+1 -> 45936 | C13: =TEXT(B13,"aaa") -> 月
B14: =B13+1 -> 45937 | C14: =TEXT(B14,"aaa") -> 火
B15: =B14+1 -> 45938 | C15: =TEXT(B15,"aaa") -> 水
B16: =B15+1 -> 45939 | C16: =TEXT(B16,"aaa") -> 木
B17: =B16+1 -> 45940 | C17: =TEXT(B17,"aaa") -> 金
B18: =B17+1 -> 45941 | C18: =TEXT(B18,"aaa") -> 土
B19: =B18+1 -> 45942 | C19: =TEXT(B19,"aaa") -> 日
B20: =B19+1 -> 45943 | C20: =TEXT(B20,"aaa") -> 月
... B38: =B37+1 -> 45961 | C38: =TEXT(B38,"aaa") -> 金
B39: 合計 | F39: =SUM(F8:F38) -> 0 | G39: =SUM(G8:G38) -> 0

Sheet １１月
B1: =年度設定シート!D8 -> 45962
B3: 氏 名
B6: 日 | C6: 曜日 | D6: 始業時刻 | E6: 終業時刻 | F6: 休憩時間（h） | G6: 実労働時間（h） | H6: 主な業務内容 | I6: 出勤印
B8: =B1 -> 45962 | C8: =TEXT(B8,"aaa") -> 土
B9: =B8+1 -> 45963 | C9: =TEXT(B9,"aaa") -> 日
B10: =B9+1 -> 45964 | C10: =TEXT(B10,"aaa") -> 月
B11: =B10+1 -> 45965 | C11: =TEXT(B11,"aaa") -> 火
B12: =B11+1 -> 45966 | C12: =TEXT(B12,"aaa") -> 水
B13: =B12+1 -> 45967 | C13: =TEXT(B13,"aaa") -> 木
B14: =B13+1 -> 45968 | C14: =TEXT(B14,"aaa") -> 金
B15: =B14+1 -> 45969 | C15: =TEXT(B15,"aaa") -> 土
B16: =B15+1 -> 45970 | C16: =TEXT(B16,"aaa") -> 日
B17: =B16+1 -> 45971 | C17: =TEXT(B17,"aaa") -> 月
B18: =B17+1 -> 45972 | C18: =TEXT(B18,"aaa") -> 火
B19: =B18+1 -> 45973 | C19: =TEXT(B19,"aaa") -> 水
B20: =B19+1 -> 45974 | C20: =TEXT(B20,"aaa") -> 木
... B37: =B36+1 -> 45991 | C37: =TEXT(B37,"aaa") -> 日
B38: 合計 | F38: =SUM(F8:F37) -> 0 | G38: =SUM(G8:G37) -> 0

Sheet １２月
B1: =年度設定シート!D9 -> 45992
B3: 氏 名
B6: 日 | C6: 曜日 | D6: 始業時刻 | E6: 終業時刻 | F6: 休憩時間（h） | G6: 実労働時間（h） | H6: 主な業務内容 | I6: 出勤印
B8: =B1 -> 45992 | C8: =TEXT(B8,"aaa") -> 月
B9: =B8+1 -> 45993 | C9: =TEXT(B9,"aaa") -> 火
B10: =B9+1 -> 45994 | C10: =TEXT(B10,"aaa") -> 水
B11: =B10+1 -> 45995 | C11: =TEXT(B11,"aaa") -> 木
B12: =B11+1 -> 45996 | C12: =TEXT(B12,"aaa") -> 金
B13: =B12+1 -> 45997 | C13: =TEXT(B13,"aaa") -> 土
B14: =B13+1 -> 45998 | C14: =TEXT(B14,"aaa") -> 日
B15: =B14+1 -> 45999 | C15: =TEXT(B15,"aaa") -> 月
B16: =B15+1 -> 46000 | C16: =TEXT(B16,"aaa") -> 火
B17: =B16+1 -> 46001 | C17: =TEXT(B17,"aaa") -> 水
B18: =B17+1 -> 46002 | C18: =TEXT(B18,"aaa") -> 木
B19: =B18+1 -> 46003 | C19: =TEXT(B19,"aaa") -> 金
B20: =B19+1 -> 46004 | C20: =TEXT(B20,"aaa") -> 土
... B38: =B37+1 -> 46022 | C38: =TEXT(B38,"aaa") -> 水
B39: 合計 | F39: =SUM(F8:F38) -> 0 | G39: =SUM(G8:G38) -> 0

Sheet １月
B1: =年度設定シート!D10 -> 46023
B3: 氏 名
B6: 日 | C6: 曜日 | D6: 始業時刻 | E6: 終業時刻 | F6: 休憩時間（h） | G6: 実労働時間（h） | H6: 主な業務内容 | I6: 出勤印
B8: =B1 -> 46023 | C8: =TEXT(B8,"aaa") -> 木
B9: =B8+1 -> 46024 | C9: =TEXT(B9,"aaa") -> 金
B10: =B9+1 -> 46025 | C10: =TEXT(B10,"aaa") -> 土
B11: =B10+1 -> 46026 | C11: =TEXT(B11,"aaa") -> 日
B12: =B11+1 -> 46027 | C12: =TEXT(B12,"aaa") -> 月
B13: =B12+1 -> 46028 | C13: =TEXT(B13,"aaa") -> 火
B14: =B13+1 -> 46029 | C14: =TEXT(B14,"aaa") -> 水
B15: =B14+1 -> 46030 | C15: =TEXT(B15,"aaa") -> 木
B16: =B15+1 -> 46031 | C16: =TEXT(B16,"aaa") -> 金
B17: =B16+1 -> 46032 | C17: =TEXT(B17,"aaa") -> 土
B18: =B17+1 -> 46033 | C18: =TEXT(B18,"aaa") -> 日
B19: =B18+1 -> 46034 | C19: =TEXT(B19,"aaa") -> 月
B20: =B19+1 -> 46035 | C20: =TEXT(B20,"aaa") -> 火
... B38: =B37+1 -> 46053 | C38: =TEXT(B38,"aaa") -> 土
B39: 合計 | F39: =SUM(F8:F38) -> 0 | G39: =SUM(G8:G38) -> 0

Sheet ２月
B1: =年度設定シート!D11 -> 46054
B3: 氏 名
B6: 日 | C6: 曜日 | D6: 始業時刻 | E6: 終業時刻 | F6: 休憩時間（h） | G6: 実労働時間（h） | H6: 主な業務内容 | I6: 出勤印
B8: =B1 -> 46054 | C8: =TEXT(B8,"aaa") -> 日
B9: =B8+1 -> 46055 | C9: =TEXT(B9,"aaa") -> 月
B10: =B9+1 -> 46056 | C10: =TEXT(B10,"aaa") -> 火
B11: =B10+1 -> 46057 | C11: =TEXT(B11,"aaa") -> 水
B12: =B11+1 -> 46058 | C12: =TEXT(B12,"aaa") -> 木
B13: =B12+1 -> 46059 | C13: =TEXT(B13,"aaa") -> 金
B14: =B13+1 -> 46060 | C14: =TEXT(B14,"aaa") -> 土
B15: =B14+1 -> 46061 | C15: =TEXT(B15,"aaa") -> 日
B16: =B15+1 -> 46062 | C16: =TEXT(B16,"aaa") -> 月
B17: =B16+1 -> 46063 | C17: =TEXT(B17,"aaa") -> 火
B18: =B17+1 -> 46064 | C18: =TEXT(B18,"aaa") -> 水
B19: =B18+1 -> 46065 | C19: =TEXT(B19,"aaa") -> 木
B20: =B19+1 -> 46066 | C20: =TEXT(B20,"aaa") -> 金
... B35: =B34+1 -> 46081 | C35: =TEXT(B35,"aaa") -> 土
B36: 合計 | F36: =SUM(F8:F35) -> 0 | G36: =SUM(G8:G35) -> 0

Sheet ３月
B1: =年度設定シート!D12 -> 46082
B3: 氏 名
B6: 日 | C6: 曜日 | D6: 始業時刻 | E6: 終業時刻 | F6: 休憩時間（h） | G6: 実労働時間（h） | H6: 主な業務内容 | I6: 出勤印
B8: =B1 -> 46082 | C8: =TEXT(B8,"aaa") -> 日
B9: =B8+1 -> 46083 | C9: =TEXT(B9,"aaa") -> 月
B10: =B9+1 -> 46084 | C10: =TEXT(B10,"aaa") -> 火
B11: =B10+1 -> 46085 | C11: =TEXT(B11,"aaa") -> 水
B12: =B11+1 -> 46086 | C12: =TEXT(B12,"aaa") -> 木
B13: =B12+1 -> 46087 | C13: =TEXT(B13,"aaa") -> 金
B14: =B13+1 -> 46088 | C14: =TEXT(B14,"aaa") -> 土
B15: =B14+1 -> 46089 | C15: =TEXT(B15,"aaa") -> 日
B16: =B15+1 -> 46090 | C16: =TEXT(B16,"aaa") -> 月
B17: =B16+1 -> 46091 | C17: =TEXT(B17,"aaa") -> 火
B18: =B17+1 -> 46092 | C18: =TEXT(B18,"aaa") -> 水
B19: =B18+1 -> 46093 | C19: =TEXT(B19,"aaa") -> 木
B20: =B19+1 -> 46094 | C20: =TEXT(B20,"aaa") -> 金
... B38: =B37+1 -> 46112 | C38: =TEXT(B38,"aaa") -> 火
B39: 合計 | F39: =SUM(F8:F38) -> 0 | G39: =SUM(G8:G38) -> 0

Sheet 記載例
B1: =年度設定シート!D1 -> 45748
B3: 氏 名 | D3: 神奈川 太郎
B6: 日 | C6: 曜日 | D6: 始業時刻 | E6: 終業時刻 | F6: 休憩時間（h） | G6: 実労働時間（h） | H6: 主な業務内容 | I6: 出勤印
B8: =B1 -> 45748 | C8: =TEXT(B8,"aaa") -> 火
B9: =B8+1 -> 45749 | C9: =TEXT(B9,"aaa") -> 水
B10: =B9+1 -> 45750 | C10: =TEXT(B10,"aaa") -> 木
B11: =B10+1 -> 45751 | C11: =TEXT(B11,"aaa") -> 金
B12: =B11+1 -> 45752 | C12: =TEXT(B12,"aaa") -> 土
B13: =B12+1 -> 45753 | C13: =TEXT(B13,"aaa") -> 日
B14: =B13+1 -> 45754 | C14: =TEXT(B14,"aaa") -> 月
B15: =B14+1 -> 45755 | C15: =TEXT(B15,"aaa") -> 火
B16: =B15+1 -> 45756 | C16: =TEXT(B16,"aaa") -> 水
B17: =B16+1 -> 45757 | C17: =TEXT(B17,"aaa") -> 木 | D17: 0.33333333 | E17: 0.41666667 | F17: 0 | G17: 2 | H17: 幼稚園の入口における園児の受け入れ | I17: 印
B18: =B17+1 -> 45758 | C18: =TEXT(B18,"aaa") -> 金
B19: =B18+1 -> 45759 | C19: =TEXT(B19,"aaa") -> 土 | D19: 0.41666667 | E19: 0.5 | F19: 0 | G19: 2 | H19: 担任教員に対する登園状況の報告 | I19: 印
B20: =B19+1 -> 45760 | C20: =TEXT(B20,"aaa") -> 日
B21: =B20+1 -> 45761 | C21: =TEXT(B21,"aaa") -> 月 | D21: 0.33333333 | E21: 0.41666667 | F21: 0 | G21: 2 | H21: 幼稚園の入口における園児の受け入れ | I21: 印
B22: =B21+1 -> 45762 | C22: =TEXT(B22,"aaa") -> 火
B23: =B22+1 -> 45763 | C23: =TEXT(B23,"aaa") -> 水
B24: =B23+1 -> 45764 | C24: =TEXT(B24,"aaa") -> 木 | D24: 0.33333333 | E24: 0.41666667 | F24: 0 | G24: 2 | H24: 幼稚園の入口における園児の受け入れ | I24: 印
B25: =B24+1 -> 45765 | C25: =TEXT(B25,"aaa") -> 金
B26: =B25+1 -> 45766 | C26: =TEXT(B26,"aaa") -> 土 | D26: 0.41666667 | E26: 0.5 | F26: 0 | G26: 2 | H26: 担任教員に対する登園状況の報告 | I26: 印
B27: =B26+1 -> 45767 | C27: =TEXT(B27,"aaa") -> 日 | D27: 0.45833333 | E27: 0.58333333 | F27: 1 | G27: 2 | H27: 園児の建物内への誘導 | I27: 印
B28: =B27+1 -> 45768 | C28: =TEXT(B28,"aaa") -> 月 | D28: 0.33333333 | E28: 0.41666667 | F28: 0 | G28: 2 | H28: 幼稚園の入口における園児の受け入れ | I28: 印
B29: =B28+1 -> 45769 | C29: =TEXT(B29,"aaa") -> 火
B30: =B29+1 -> 45770 | C30: =TEXT(B30,"aaa") -> 水
B31: =B30+1 -> 45771 | C31: =TEXT(B31,"aaa") -> 木 | D31: 0.33333333 | E31: 0.41666667 | F31: 0 | G31: 2 | H31: 幼稚園の入口における園児の受け入れ | I31: 印
B32: =B31+1 -> 45772 | C32: =TEXT(B32,"aaa") -> 金
B33: =B32+1 -> 45773 | C33: =TEXT(B33,"aaa") -> 土 | D33: 0.41666667 | E33: 0.5 | F33: 0 | G33: 2 | H33: 担任教員に対する登園状況の報告 | I33: 印
B34: =B33+1 -> 45774 | C34: =TEXT(B34,"aaa") -> 日
B35: =B34+1 -> 45775 | C35: =TEXT(B35,"aaa") -> 月 | D35: 0.33333333 | E35: 0.41666667 | F35: 0 | G35: 2 | H35: 幼稚園の入口における園児の受け入れ | I35: 印
B36: =B35+1 -> 45776 | C36: =TEXT(B36,"aaa") -> 火
B37: =B36+1 -> 45777 | C37: =TEXT(B37,"aaa") -> 水
B38: 合計 | F38: =SUM(F8:F37) -> 1 | G38: =SUM(G8:G37) -> 20

Sheet 年度設定シート
A1: 2025 | B1: =A1 -> 2025 | C1: 4 | D1: =DATE($B$1,C1,1) -> 45748
B2: =A1+1 -> 2026 | C2: 5 | D2: =DATE($B$1,C2,1) -> 45778
C3: 6 | D3: =DATE($B$1,C3,1) -> 45809
C4: 7 | D4: =DATE($B$1,C4,1) -> 45839
C5: 8 | D5: =DATE($B$1,C5,1) -> 45870
C6: 9 | D6: =DATE($B$1,C6,1) -> 45901
C7: 10 | D7: =DATE($B$1,C7,1) -> 45931
C8: 11 | D8: =DATE($B$1,C8,1) -> 45962
C9: 12 | D9: =DATE($B$1,C9,1) -> 45992
C10: 1 | D10: =DATE($B$2,C10,1) -> 46023
C11: 2 | D11: =DATE($B$2,C11,1) -> 46054
C12: 3 | D12: =DATE($B$2,C12,1) -> 46082
