Workbook

Sheet 入力シート（基本情報）
A1: 受験番号（下４桁） | B1: 選考区分 | D1: 資格免許 | E1: 取得年月日
B2: 電気【経験者】 | D2: 普通運転免許
A4: 漢字姓 | B4: 漢字名
A7: カナ姓 | B7: カナ名
A10: 性別 | B10: 生年月日

Sheet 入力例（基本情報）
A1: 受験番号（下４桁） | B1: 選考区分 | D1: 資格免許 | E1: 取得年月日
B2: ='入力シート（基本情報）'!$B$2 -> 電気【経験者】 | D2: 普通運転免許 | E2: 36413
A4: 漢字姓 | B4: 漢字名
A5: 神奈川 | B5: 花子
A7: カナ姓 | B7: カナ名
A8: カナガワ | B8: ハナコ
A10: 性別 | B10: 生年月日
A11: 女性 | B11: 30590

Sheet 入力シート（学歴情報）
A1: No. | B1: 学校名 | C1: 学歴区分 | D1: 学部名 | E1: 学科名 | F1: 入学年 | G1: 入学月 | H1: 卒業年 | I1: 卒業月 | J1: 卒業区分
A2: =IF(ISBLANK(B2),"",ROW()-1) | C2: 中学
A3: =IF(ISBLANK(B3),"",ROW()-1)
A4: =IF(ISBLANK(B4),"",ROW()-1)
A5: =IF(ISBLANK(B5),"",ROW()-1)
A6: =IF(ISBLANK(B6),"",ROW()-1)
A7: =IF(ISBLANK(B7),"",ROW()-1)
A8: =IF(ISBLANK(B8),"",ROW()-1)
A9: =IF(ISBLANK(B9),"",ROW()-1)
A10: =IF(ISBLANK(B10),"",ROW()-1)
A11: =IF(ISBLANK(B11),"",ROW()-1)
A12: =IF(ISBLANK(B12),"",ROW()-1)
A13: =IF(ISBLANK(B13),"",ROW()-1)
A14: =IF(ISBLANK(B14),"",ROW()-1)
... A101: =IF(ISBLANK(B101),"",ROW()-1)

Sheet 入力例（学歴情報）
A1: No. | B1: 学校名 | C1: 学歴区分 | D1: 学部名 | E1: 学科名 | F1: 入学年 | G1: 入学月 | H1: 卒業年 | I1: 卒業月 | J1: 卒業区分
A2: =IF(ISBLANK(B2),"",ROW()-1) -> 1 | B2: 横浜市立港第一中学校 | C2: 中学 | F2: 1999 | G2: 04 | H2: 2001 | I2: 08 | J2: 中退
A3: =IF(ISBLANK(B3),"",ROW()-1) -> 2 | B3: 横浜市立港第三中学校 | C3: 中学 | F3: 2001 | G3: 09 | H3: 2002 | I3: 03 | J3: 卒業
A4: =IF(ISBLANK(B4),"",ROW()-1) -> 3 | B4: 神奈川県立山百合高等学校 | C4: 高校３ | E4: 普通科 | F4: 2002 | G4: 04 | H4: 2005 | I4: 03 | J4: 卒業
A5: =IF(ISBLANK(B5),"",ROW()-1) -> 4 | B5: 東京山百合大学 | C5: 大学４ | D5: 理工学部 | E5: 数学科 | F5: 2006 | G5: 04 | H5: 2008 | I5: 03 | J5: 中退
A6: =IF(ISBLANK(B6),"",ROW()-1) -> 5 | B6: 西日本山川大学 | C6: 大学４ | D6: 経済学部 | E6: 経済学科 | F6: 2009 | G6: 04 | H6: 2012 | I6: 03 | J6: 卒業
A7: =IF(ISBLANK(B7),"",ROW()-1) -> 6 | B7: 東日本海川大学大学院 | C7: 法科大学院 | D7: 法学研究科 | E7: 法曹養成専攻 | F7: 2012 | G7: 04 | H7: 2015 | I7: 03 | J7: 修了
A8: =IF(ISBLANK(B8),"",ROW()-1)
A9: =IF(ISBLANK(B9),"",ROW()-1)
A10: =IF(ISBLANK(B10),"",ROW()-1)
A11: =IF(ISBLANK(B11),"",ROW()-1)
A12: =IF(ISBLANK(B12),"",ROW()-1)
A13: =IF(ISBLANK(B13),"",ROW()-1)
A14: =IF(ISBLANK(B14),"",ROW()-1)
A15: =IF(ISBLANK(B15),"",ROW()-1)
A16: =IF(ISBLANK(B16),"",ROW()-1)
A17: =IF(ISBLANK(B17),"",ROW()-1)
A18: =IF(ISBLANK(B18),"",ROW()-1)
A19: =IF(ISBLANK(B19),"",ROW()-1)
... A101: =IF(ISBLANK(B101),"",ROW()-1)

Sheet 入力シート（職歴情報）
A1: No. | B1: 勤務先名・学校名 | C1: 部署名 | D1: 学校区分 | E1: 経歴分類 | F1: 業務内容 | G1: 備考 | H1: 開始日 | I1: 終了日 | J1: 週勤務時間等 | O1: 月数 | P1: 日数 | Q1: 技術経験 | R1: =SUM(U2:U101) -> 0 | S1: =SUM(V2:V101) -> 0 | T1: =R1+INT(S1/30)+IF(MOD(S1,30)=0,0,1) -> 0 | W1: 民間経験 | X1: =SUM(AA2:AA101) -> 0 | Y1: =SUM(AB2:AB101) -> 0 | Z1: =X1+INT(Y1/30)+IF(MOD(Y1,30)=0,0,1) -> 0
A2: =IF(ISBLANK(B2),"",ROW()-1) | K2: 社会人経験（高卒後換算） | M2: =EOMONTH(H2-1,0)+1 -> #NUM! | N2: =EOMONTH(I2+1,-1) -> #NUM! | O2: =IFERROR(DATEDIF(M2,N2+1,"M"),0) -> 0 | P2: =IF(N2+1<M2,I2-H2+1,(M2-H2)+(I2-N2)) -> #NUM! | Q2: =IF(I2>'入力シート（基本情報）'!$I$1,1,0) -> 0 | R2: =IFERROR(VLOOKUP($G2,リスト用!$P:$Q,2,FALSE)*VLOOKUP($J2,リスト用!$H:$I,2,FALSE)*O2*Q2,0) -> 0 | S2: =IFERROR(VLOOKUP($G2,リスト用!$P:$Q,2,FALSE)*VLOOKUP($J2,リスト用!$H:$I,2,FALSE)*P2*Q2,0) -> 0 | U2: =INT(R2) -> 0 | V2: =(R2-U2)*30+S2 -> 0 | W2: =IF(D2="高校３",0,1) -> 1 | X2: =IFERROR(VLOOKUP($E2,リスト用!$M:$N,2,FALSE)*VLOOKUP($J2,リスト用!$H:$I,2,FALSE)*O2*W2,0) -> 0 | Y2: =IFERROR(VLOOKUP($E2,リスト用!$M:$N,2,FALSE)*VLOOKUP($J2,リスト用!$H:$I,2,FALSE)*P2*W2,0) -> 0 | AA2: =INT(X2) -> 0 | AB2: =(X2-AA2)*30+Y2 -> 0
A3: =IF(ISBLANK(B3),"",ROW()-1) | K3: =Z1 -> 0 | L3: 120 | M3: =EOMONTH(H3-1,0)+1 -> #NUM! | N3: =EOMONTH(I3+1,-1) -> #NUM! | O3: =IFERROR(DATEDIF(M3,N3+1,"M"),0) -> 0 | P3: =IF(N3+1<M3,I3-H3+1,(M3-H3)+(I3-N3)) -> #NUM! | Q3: =IF(I3>'入力シート（基本情報）'!$I$1,1,0) -> 0 | R3: =IFERROR(VLOOKUP($F3,リスト用!$P:$Q,2,FALSE)*VLOOKUP($J3,リスト用!$H:$I,2,FALSE)*O3*Q3,0) -> 0 | S3: =IFERROR(VLOOKUP($F3,リスト用!$P:$Q,2,FALSE)*VLOOKUP($J3,リスト用!$H:$I,2,FALSE)*P3*Q3,0) -> 0 | U3: =INT(R3) -> 0 | V3: =(R3-U3)*30+S3 -> 0 | W3: =IF(D3="高校３",0,1) -> 1 | X3: =IFERROR(VLOOKUP($E3,リスト用!$M:$N,2,FALSE)*VLOOKUP($J3,リスト用!$H:$I,2,FALSE)*O3*W3,0) -> 0 | Y3: =IFERROR(VLOOKUP($E3,リスト用!$M:$N,2,FALSE)*VLOOKUP($J3,リスト用!$H:$I,2,FALSE)*P3*W3,0) -> 0 | AA3: =INT(X3) -> 0 | AB3: =(X3-AA3)*30+Y3 -> 0
A4: =IF(ISBLANK(B4),"",ROW()-1) | M4: =EOMONTH(H4-1,0)+1 -> #NUM! | N4: =EOMONTH(I4+1,-1) -> #NUM! | O4: =IFERROR(DATEDIF(M4,N4+1,"M"),0) -> 0 | P4: =IF(N4+1<M4,I4-H4+1,(M4-H4)+(I4-N4)) -> #NUM! | Q4: =IF(I4>'入力シート（基本情報）'!$I$1,1,0) -> 0 | R4: =IFERROR(VLOOKUP($F4,リスト用!$P:$Q,2,FALSE)*VLOOKUP($J4,リスト用!$H:$I,2,FALSE)*O4*Q4,0) -> 0 | S4: =IFERROR(VLOOKUP($F4,リスト用!$P:$Q,2,FALSE)*VLOOKUP($J4,リスト用!$H:$I,2,FALSE)*P4*Q4,0) -> 0 | U4: =INT(R4) -> 0 | V4: =(R4-U4)*30+S4 -> 0 | W4: =IF(D4="高校３",0,1) -> 1 | X4: =IFERROR(VLOOKUP($E4,リスト用!$M:$N,2,FALSE)*VLOOKUP($J4,リスト用!$H:$I,2,FALSE)*O4*W4,0) -> 0 | Y4: =IFERROR(VLOOKUP($E4,リスト用!$M:$N,2,FALSE)*VLOOKUP($J4,リスト用!$H:$I,2,FALSE)*P4*W4,0) -> 0 | AA4: =INT(X4) -> 0 | AB4: =(X4-AA4)*30+Y4 -> 0
A5: =IF(ISBLANK(B5),"",ROW()-1) | M5: =EOMONTH(H5-1,0)+1 -> #NUM! | N5: =EOMONTH(I5+1,-1) -> #NUM! | O5: =IFERROR(DATEDIF(M5,N5+1,"M"),0) -> 0 | P5: =IF(N5+1<M5,I5-H5+1,(M5-H5)+(I5-N5)) -> #NUM! | Q5: =IF(I5>'入力シート（基本情報）'!$I$1,1,0) -> 0 | R5: =IFERROR(VLOOKUP($F5,リスト用!$P:$Q,2,FALSE)*VLOOKUP($J5,リスト用!$H:$I,2,FALSE)*O5*Q5,0) -> 0 | S5: =IFERROR(VLOOKUP($F5,リスト用!$P:$Q,2,FALSE)*VLOOKUP($J5,リスト用!$H:$I,2,FALSE)*P5*Q5,0) -> 0 | U5: =INT(R5) -> 0 | V5: =(R5-U5)*30+S5 -> 0 | W5: =IF(D5="高校３",0,1) -> 1 | X5: =IFERROR(VLOOKUP($E5,リスト用!$M:$N,2,FALSE)*VLOOKUP($J5,リスト用!$H:$I,2,FALSE)*O5*W5,0) -> 0 | Y5: =IFERROR(VLOOKUP($E5,リスト用!$M:$N,2,FALSE)*VLOOKUP($J5,リスト用!$H:$I,2,FALSE)*P5*W5,0) -> 0 | AA5: =INT(X5) -> 0 | AB5: =(X5-AA5)*30+Y5 -> 0
A6: =IF(ISBLANK(B6),"",ROW()-1) | M6: =EOMONTH(H6-1,0)+1 -> #NUM! | N6: =EOMONTH(I6+1,-1) -> #NUM! | O6: =IFERROR(DATEDIF(M6,N6+1,"M"),0) -> 0 | P6: =IF(N6+1<M6,I6-H6+1,(M6-H6)+(I6-N6)) -> #NUM! | Q6: =IF(I6>'入力シート（基本情報）'!$I$1,1,0) -> 0 | R6: =IFERROR(VLOOKUP($F6,リスト用!$P:$Q,2,FALSE)*VLOOKUP($J6,リスト用!$H:$I,2,FALSE)*O6*Q6,0) -> 0 | S6: =IFERROR(VLOOKUP($F6,リスト用!$P:$Q,2,FALSE)*VLOOKUP($J6,リスト用!$H:$I,2,FALSE)*P6*Q6,0) -> 0 | U6: =INT(R6) -> 0 | V6: =(R6-U6)*30+S6 -> 0 | W6: =IF(D6="高校３",0,1) -> 1 | X6: =IFERROR(VLOOKUP($E6,リスト用!$M:$N,2,FALSE)*VLOOKUP($J6,リスト用!$H:$I,2,FALSE)*O6*W6,0) -> 0 | Y6: =IFERROR(VLOOKUP($E6,リスト用!$M:$N,2,FALSE)*VLOOKUP($J6,リスト用!$H:$I,2,FALSE)*P6*W6,0) -> 0 | AA6: =INT(X6) -> 0 | AB6: =(X6-AA6)*30+Y6 -> 0
A7: =IF(ISBLANK(B7),"",ROW()-1) | M7: =EOMONTH(H7-1,0)+1 -> #NUM! | N7: =EOMONTH(I7+1,-1) -> #NUM! | O7: =IFERROR(DATEDIF(M7,N7+1,"M"),0) -> 0 | P7: =IF(N7+1<M7,I7-H7+1,(M7-H7)+(I7-N7)) -> #NUM! | Q7: =IF(I7>'入力シート（基本情報）'!$I$1,1,0) -> 0 | R7: =IFERROR(VLOOKUP($F7,リスト用!$P:$Q,2,FALSE)*VLOOKUP($J7,リスト用!$H:$I,2,FALSE)*O7*Q7,0) -> 0 | S7: =IFERROR(VLOOKUP($F7,リスト用!$P:$Q,2,FALSE)*VLOOKUP($J7,リスト用!$H:$I,2,FALSE)*P7*Q7,0) -> 0 | U7: =INT(R7) -> 0 | V7: =(R7-U7)*30+S7 -> 0 | W7: =IF(D7="高校３",0,1) -> 1 | X7: =IFERROR(VLOOKUP($E7,リスト用!$M:$N,2,FALSE)*VLOOKUP($J7,リスト用!$H:$I,2,FALSE)*O7*W7,0) -> 0 | Y7: =IFERROR(VLOOKUP($E7,リスト用!$M:$N,2,FALSE)*VLOOKUP($J7,リスト用!$H:$I,2,FALSE)*P7*W7,0) -> 0 | AA7: =INT(X7) -> 0 | AB7: =(X7-AA7)*30+Y7 -> 0
A8: =IF(ISBLANK(B8),"",ROW()-1) | M8: =EOMONTH(H8-1,0)+1 -> #NUM! | N8: =EOMONTH(I8+1,-1) -> #NUM! | O8: =IFERROR(DATEDIF(M8,N8+1,"M"),0) -> 0 | P8: =IF(N8+1<M8,I8-H8+1,(M8-H8)+(I8-N8)) -> #NUM! | Q8: =IF(I8>'入力シート（基本情報）'!$I$1,1,0) -> 0 | R8: =IFERROR(VLOOKUP($F8,リスト用!$P:$Q,2,FALSE)*VLOOKUP($J8,リスト用!$H:$I,2,FALSE)*O8*Q8,0) -> 0 | S8: =IFERROR(VLOOKUP($F8,リスト用!$P:$Q,2,FALSE)*VLOOKUP($J8,リスト用!$H:$I,2,FALSE)*P8*Q8,0) -> 0 | U8: =INT(R8) -> 0 | V8: =(R8-U8)*30+S8 -> 0 | W8: =IF(D8="高校３",0,1) -> 1 | X8: =IFERROR(VLOOKUP($E8,リスト用!$M:$N,2,FALSE)*VLOOKUP($J8,リスト用!$H:$I,2,FALSE)*O8*W8,0) -> 0 | Y8: =IFERROR(VLOOKUP($E8,リスト用!$M:$N,2,FALSE)*VLOOKUP($J8,リスト用!$H:$I,2,FALSE)*P8*W8,0) -> 0 | AA8: =INT(X8) -> 0 | AB8: =(X8-AA8)*30+Y8 -> 0
A9: =IF(ISBLANK(B9),"",ROW()-1) | M9: =EOMONTH(H9-1,0)+1 -> #NUM! | N9: =EOMONTH(I9+1,-1) -> #NUM! | O9: =IFERROR(DATEDIF(M9,N9+1,"M"),0) -> 0 | P9: =IF(N9+1<M9,I9-H9+1,(M9-H9)+(I9-N9)) -> #NUM! | Q9: =IF(I9>'入力シート（基本情報）'!$I$1,1,0) -> 0 | R9: =IFERROR(VLOOKUP($F9,リスト用!$P:$Q,2,FALSE)*VLOOKUP($J9,リスト用!$H:$I,2,FALSE)*O9*Q9,0) -> 0 | S9: =IFERROR(VLOOKUP($F9,リスト用!$P:$Q,2,FALSE)*VLOOKUP($J9,リスト用!$H:$I,2,FALSE)*P9*Q9,0) -> 0 | U9: =INT(R9) -> 0 | V9: =(R9-U9)*30+S9 -> 0 | W9: =IF(D9="高校３",0,1) -> 1 | X9: =IFERROR(VLOOKUP($E9,リスト用!$M:$N,2,FALSE)*VLOOKUP($J9,リスト用!$H:$I,2,FALSE)*O9*W9,0) -> 0 | Y9: =IFERROR(VLOOKUP($E9,リスト用!$M:$N,2,FALSE)*VLOOKUP($J9,リスト用!$H:$I,2,FALSE)*P9*W9,0) -> 0 | AA9: =INT(X9) -> 0 | AB9: =(X9-AA9)*30+Y9 -> 0
A10: =IF(ISBLANK(B10),"",ROW()-1) | M10: =EOMONTH(H10-1,0)+1 -> #NUM! | N10: =EOMONTH(I10+1,-1) -> #NUM! | O10: =IFERROR(DATEDIF(M10,N10+1,"M"),0) -> 0 | P10: =IF(N10+1<M10,I10-H10+1,(M10-H10)+(I10-N10)) -> #NUM! | Q10: =IF(I10>'入力シート（基本情報）'!$I$1,1,0) -> 0 | R10: =IFERROR(VLOOKUP($F10,リスト用!$P:$Q,2,FALSE)*VLOOKUP($J10,リスト用!$H:$I,2,FALSE)*O10*Q10,0) -> 0 | S10: =IFERROR(VLOOKUP($F10,リスト用!$P:$Q,2,FALSE)*VLOOKUP($J10,リスト用!$H:$I,2,FALSE)*P10*Q10,0) -> 0 | U10: =INT(R10) -> 0 | V10: =(R10-U10)*30+S10 -> 0 | W10: =IF(D10="高校３",0,1) -> 1 | X10: =IFERROR(VLOOKUP($E10,リスト用!$M:$N,2,FALSE)*VLOOKUP($J10,リスト用!$H:$I,2,FALSE)*O10*W10,0) -> 0 | Y10: =IFERROR(VLOOKUP($E10,リスト用!$M:$N,2,FALSE)*VLOOKUP($J10,リスト用!$H:$I,2,FALSE)*P10*W10,0) -> 0 | AA10: =INT(X10) -> 0 | AB10: =(X10-AA10)*30+Y10 -> 0
A11: =IF(ISBLANK(B11),"",ROW()-1) | M11: =EOMONTH(H11-1,0)+1 -> #NUM! | N11: =EOMONTH(I11+1,-1) -> #NUM! | O11: =IFERROR(DATEDIF(M11,N11+1,"M"),0) -> 0 | P11: =IF(N11+1<M11,I11-H11+1,(M11-H11)+(I11-N11)) -> #NUM! | Q11: =IF(I11>'入力シート（基本情報）'!$I$1,1,0) -> 0 | R11: =IFERROR(VLOOKUP($F11,リスト用!$P:$Q,2,FALSE)*VLOOKUP($J11,リスト用!$H:$I,2,FALSE)*O11*Q11,0) -> 0 | S11: =IFERROR(VLOOKUP($F11,リスト用!$P:$Q,2,FALSE)*VLOOKUP($J11,リスト用!$H:$I,2,FALSE)*P11*Q11,0) -> 0 | U11: =INT(R11) -> 0 | V11: =(R11-U11)*30+S11 -> 0 | W11: =IF(D11="高校３",0,1) -> 1 | X11: =IFERROR(VLOOKUP($E11,リスト用!$M:$N,2,FALSE)*VLOOKUP($J11,リスト用!$H:$I,2,FALSE)*O11*W11,0) -> 0 | Y11: =IFERROR(VLOOKUP($E11,リスト用!$M:$N,2,FALSE)*VLOOKUP($J11,リスト用!$H:$I,2,FALSE)*P11*W11,0) -> 0 | AA11: =INT(X11) -> 0 | AB11: =(X11-AA11)*30+Y11 -> 0
A12: =IF(ISBLANK(B12),"",ROW()-1) | M12: =EOMONTH(H12-1,0)+1 -> #NUM! | N12: =EOMONTH(I12+1,-1) -> #NUM! | O12: =IFERROR(DATEDIF(M12,N12+1,"M"),0) -> 0 | P12: =IF(N12+1<M12,I12-H12+1,(M12-H12)+(I12-N12)) -> #NUM! | Q12: =IF(I12>'入力シート（基本情報）'!$I$1,1,0) -> 0 | R12: =IFERROR(VLOOKUP($F12,リスト用!$P:$Q,2,FALSE)*VLOOKUP($J12,リスト用!$H:$I,2,FALSE)*O12*Q12,0) -> 0 | S12: =IFERROR(VLOOKUP($F12,リスト用!$P:$Q,2,FALSE)*VLOOKUP($J12,リスト用!$H:$I,2,FALSE)*P12*Q12,0) -> 0 | U12: =INT(R12) -> 0 | V12: =(R12-U12)*30+S12 -> 0 | W12: =IF(D12="高校３",0,1) -> 1 | X12: =IFERROR(VLOOKUP($E12,リスト用!$M:$N,2,FALSE)*VLOOKUP($J12,リスト用!$H:$I,2,FALSE)*O12*W12,0) -> 0 | Y12: =IFERROR(VLOOKUP($E12,リスト用!$M:$N,2,FALSE)*VLOOKUP($J12,リスト用!$H:$I,2,FALSE)*P12*W12,0) -> 0 | AA12: =INT(X12) -> 0 | AB12: =(X12-AA12)*30+Y12 -> 0
A13: =IF(ISBLANK(B13),"",ROW()-1) | M13: =EOMONTH(H13-1,0)+1 -> #NUM! | N13: =EOMONTH(I13+1,-1) -> #NUM! | O13: =IFERROR(DATEDIF(M13,N13+1,"M"),0) -> 0 | P13: =IF(N13+1<M13,I13-H13+1,(M13-H13)+(I13-N13)) -> #NUM! | Q13: =IF(I13>'入力シート（基本情報）'!$I$1,1,0) -> 0 | R13: =IFERROR(VLOOKUP($F13,リスト用!$P:$Q,2,FALSE)*VLOOKUP($J13,リスト用!$H:$I,2,FALSE)*O13*Q13,0) -> 0 | S13: =IFERROR(VLOOKUP($F13,リスト用!$P:$Q,2,FALSE)*VLOOKUP($J13,リスト用!$H:$I,2,FALSE)*P13*Q13,0) -> 0 | U13: =INT(R13) -> 0 | V13: =(R13-U13)*30+S13 -> 0 | W13: =IF(D13="高校３",0,1) -> 1 | X13: =IFERROR(VLOOKUP($E13,リスト用!$M:$N,2,FALSE)*VLOOKUP($J13,リスト用!$H:$I,2,FALSE)*O13*W13,0) -> 0 | Y13: =IFERROR(VLOOKUP($E13,リスト用!$M:$N,2,FALSE)*VLOOKUP($J13,リスト用!$H:$I,2,FALSE)*P13*W13,0) -> 0 | AA13: =INT(X13) -> 0 | AB13: =(X13-AA13)*30+Y13 -> 0
A14: =IF(ISBLANK(B14),"",ROW()-1) | M14: =EOMONTH(H14-1,0)+1 -> #NUM! | N14: =EOMONTH(I14+1,-1) -> #NUM! | O14: =IFERROR(DATEDIF(M14,N14+1,"M"),0) -> 0 | P14: =IF(N14+1<M14,I14-H14+1,(M14-H14)+(I14-N14)) -> #NUM! | Q14: =IF(I14>'入力シート（基本情報）'!$I$1,1,0) -> 0 | R14: =IFERROR(VLOOKUP($F14,リスト用!$P:$Q,2,FALSE)*VLOOKUP($J14,リスト用!$H:$I,2,FALSE)*O14*Q14,0) -> 0 | S14: =IFERROR(VLOOKUP($F14,リスト用!$P:$Q,2,FALSE)*VLOOKUP($J14,リスト用!$H:$I,2,FALSE)*P14*Q14,0) -> 0 | U14: =INT(R14) -> 0 | V14: =(R14-U14)*30+S14 -> 0 | W14: =IF(D14="高校３",0,1) -> 1 | X14: =IFERROR(VLOOKUP($E14,リスト用!$M:$N,2,FALSE)*VLOOKUP($J14,リスト用!$H:$I,2,FALSE)*O14*W14,0) -> 0 | Y14: =IFERROR(VLOOKUP($E14,リスト用!$M:$N,2,FALSE)*VLOOKUP($J14,リスト用!$H:$I,2,FALSE)*P14*W14,0) -> 0 | AA14: =INT(X14) -> 0 | AB14: =(X14-AA14)*30+Y14 -> 0
A15: =IF(ISBLANK(B15),"",ROW()-1) | M15: =EOMONTH(H15-1,0)+1 -> #NUM! | N15: =EOMONTH(I15+1,-1) -> #NUM! | O15: =IFERROR(DATEDIF(M15,N15+1,"M"),0) -> 0 | P15: =IF(N15+1<M15,I15-H15+1,(M15-H15)+(I15-N15)) -> #NUM! | Q15: =IF(I15>'入力シート（基本情報）'!$I$1,1,0) -> 0 | R15: =IFERROR(VLOOKUP($F15,リスト用!$P:$Q,2,FALSE)*VLOOKUP($J15,リスト用!$H:$I,2,FALSE)*O15*Q15,0) -> 0 | S15: =IFERROR(VLOOKUP($F15,リスト用!$P:$Q,2,FALSE)*VLOOKUP($J15,リスト用!$H:$I,2,FALSE)*P15*Q15,0) -> 0 | U15: =INT(R15) -> 0 | V15: =(R15-U15)*30+S15 -> 0 | W15: =IF(D15="高校３",0,1) -> 1 | X15: =IFERROR(VLOOKUP($E15,リスト用!$M:$N,2,FALSE)*VLOOKUP($J15,リスト用!$H:$I,2,FALSE)*O15*W15,0) -> 0 | Y15: =IFERROR(VLOOKUP($E15,リスト用!$M:$N,2,FALSE)*VLOOKUP($J15,リスト用!$H:$I,2,FALSE)*P15*W15,0) -> 0 | AA15: =INT(X15) -> 0 | AB15: =(X15-AA15)*30+Y15 -> 0
... A101: =IF(ISBLANK(B101),"",ROW()-1) | M101: =EOMONTH(H101-1,0)+1 -> #NUM! | N101: =EOMONTH(I101+1,-1) -> #NUM! | O101: =IFERROR(DATEDIF(M101,N101+1,"M"),0) -> 0 | P101: =IF(N101+1<M101,I101-H101+1,(M101-H101)+(I101-N101)) -> #NUM! | Q101: =IF(I101>'入力シート（基本情報）'!$I$1,1,0) -> 0 | R101: =IFERROR(VLOOKUP($F101,リスト用!$P:$Q,2,FALSE)*VLOOKUP($J101,リスト用!$H:$I,2,FALSE)*O101*Q101,0) -> 0 | S101: =IFERROR(VLOOKUP($F101,リスト用!$P:$Q,2,FALSE)*VLOOKUP($J101,リスト用!$H:$I,2,FALSE)*P101*Q101,0) -> 0 | U101: =INT(R101) -> 0 | V101: =(R101-U101)*30+S101 -> 0 | W101: =IF(D101="高校３",0,1) -> 1 | X101: =IFERROR(VLOOKUP($E101,リスト用!$M:$N,2,FALSE)*VLOOKUP($J101,リスト用!$H:$I,2,FALSE)*O101*W101,0) -> 0 | Y101: =IFERROR(VLOOKUP($E101,リスト用!$M:$N,2,FALSE)*VLOOKUP($J101,リスト用!$H:$I,2,FALSE)*P101*W101,0) -> 0 | AA101: =INT(X101) -> 0 | AB101: =(X101-AA101)*30+Y101 -> 0

Sheet 入力例（職歴情報）
A1: No. | B1: 勤務先名・学校名 | C1: 部署名 | D1: 学校区分 | E1: 経歴分類 | F1: 業務内容 | G1: 備考 | H1: 開始日 | I1: 終了日 | J1: 週勤務時間等 | O1: 月数 | P1: 日数 | Q1: 技術経験 | R1: =SUM(U2:U103) -> 0 | S1: =SUM(V2:V103) -> 0 | T1: =R1+INT(S1/30)+IF(MOD(S1,30)=0,0,1) -> 0 | W1: 民間経験 | X1: =SUM(AA2:AA103) -> 230 | Y1: =SUM(AB2:AB103) -> 0 | Z1: =X1+INT(Y1/30)+IF(MOD(Y1,30)=0,0,1) -> 230
A2: =IF(ISBLANK(B2),"",ROW()-1) -> 1 | B2: ○○高等学校 | D2: 高校３ | E2: 学生 | H2: 37347 | I2: 38442 | J2: 正規課程 | K2: 職務経験（保健師取得後） | M2: =EOMONTH(H2-1,0)+1 -> 37347 | N2: =EOMONTH(I2+1,-1) -> 38442 | O2: =IFERROR(DATEDIF(M2,N2+1,"M"),0) -> 36 | P2: =IF(N2+1<M2,I2-H2+1,(M2-H2)+(I2-N2)) -> 0 | Q2: =IF(I2>'入力シート（基本情報）'!$I$1,1,0) -> 1 | R2: =IFERROR(VLOOKUP($F2,リスト用!$P:$Q,2,FALSE)*VLOOKUP($J2,リスト用!$H:$I,2,FALSE)*O2*Q2,0) -> 0 | S2: =IFERROR(VLOOKUP($F2,リスト用!$P:$Q,2,FALSE)*VLOOKUP($J2,リスト用!$H:$I,2,FALSE)*P2*Q2,0) -> 0 | U2: =INT(R2) -> 0 | V2: =(R2-U2)*30+S2 -> 0 | W2: =IF(D2="高校３",0,1) -> 0 | X2: =IFERROR(VLOOKUP($E2,リスト用!$M:$N,2,FALSE)*VLOOKUP($J2,リスト用!$H:$I,2,FALSE)*O2*W2,0) -> 0 | Y2: =IFERROR(VLOOKUP($E2,リスト用!$M:$N,2,FALSE)*VLOOKUP($J2,リスト用!$H:$I,2,FALSE)*P2*W2,0) -> 0 | AA2: =INT(X2) -> 0 | AB2: =(X2-AA2)*30+Y2 -> 0
A3: =IF(ISBLANK(B3),"",ROW()-1) -> 2 | B3: 在家庭 | E3: 在家庭 | G3: 浪人 | H3: 38443 | I3: 38807 | J3: 29時間未満、在家庭、浪人等
A4: =IF(ISBLANK(B4),"",ROW()-1) -> 3 | B4: 在家庭 | D4: 大学４ | E4: 学生 | H4: 38808 | I4: 40268 | J4: 正規課程 | K4: =T1 -> 0 | M4: =EOMONTH(H4-1,0)+1 -> 38808 | N4: =EOMONTH(I4+1,-1) -> 40268 | O4: =IFERROR(DATEDIF(M4,N4+1,"M"),0) -> 48 | P4: =IF(N4+1<M4,I4-H4+1,(M4-H4)+(I4-N4)) -> 0 | Q4: =IF(I4>'入力シート（基本情報）'!$I$1,1,0) -> 1 | R4: =IFERROR(VLOOKUP($F4,リスト用!$P:$Q,2,FALSE)*VLOOKUP($J4,リスト用!$H:$I,2,FALSE)*O4*Q4,0) -> 0 | S4: =IFERROR(VLOOKUP($F4,リスト用!$P:$Q,2,FALSE)*VLOOKUP($J4,リスト用!$H:$I,2,FALSE)*P4*Q4,0) -> 0 | U4: =INT(R4) -> 0 | V4: =(R4-U4)*30+S4 -> 0 | W4: =IF(D4="高校３",0,1) -> 1 | X4: =IFERROR(VLOOKUP($E4,リスト用!$M:$N,2,FALSE)*VLOOKUP($J4,リスト用!$H:$I,2,FALSE)*O4*W4,0) -> 48 | Y4: =IFERROR(VLOOKUP($E4,リスト用!$M:$N,2,FALSE)*VLOOKUP($J4,リスト用!$H:$I,2,FALSE)*P4*W4,0) -> 0 | AA4: =INT(X4) -> 48 | AB4: =(X4-AA4)*30+Y4 -> 0
A5: =IF(ISBLANK(B5),"",ROW()-1) -> 4 | B5: ××大学 | D5: 大学４ | E5: 学生 | G5: 海外留学のため休学（H19.10～H20.9） | H5: 40269 | I5: 40633 | J5: 休学、留年等
A6: =IF(ISBLANK(B6),"",ROW()-1) -> 5 | B6: ××大学 | D6: 修士課程 | E6: 学生 | H6: 40634 | I6: 41364 | J6: 正規課程 | M6: =EOMONTH(H6-1,0)+1 -> 40634 | N6: =EOMONTH(I6+1,-1) -> 41364 | O6: =IFERROR(DATEDIF(M6,N6+1,"M"),0) -> 24 | P6: =IF(N6+1<M6,I6-H6+1,(M6-H6)+(I6-N6)) -> 0 | Q6: =IF(I6>'入力シート（基本情報）'!$I$1,1,0) -> 1 | R6: =IFERROR(VLOOKUP($F6,リスト用!$P:$Q,2,FALSE)*VLOOKUP($J6,リスト用!$H:$I,2,FALSE)*O6*Q6,0) -> 0 | S6: =IFERROR(VLOOKUP($F6,リスト用!$P:$Q,2,FALSE)*VLOOKUP($J6,リスト用!$H:$I,2,FALSE)*P6*Q6,0) -> 0 | U6: =INT(R6) -> 0 | V6: =(R6-U6)*30+S6 -> 0 | W6: =IF(D6="高校３",0,1) -> 1 | X6: =IFERROR(VLOOKUP($E6,リスト用!$M:$N,2,FALSE)*VLOOKUP($J6,リスト用!$H:$I,2,FALSE)*O6*W6,0) -> 24 | Y6: =IFERROR(VLOOKUP($E6,リスト用!$M:$N,2,FALSE)*VLOOKUP($J6,リスト用!$H:$I,2,FALSE)*P6*W6,0) -> 0 | AA6: =INT(X6) -> 24 | AB6: =(X6-AA6)*30+Y6 -> 0
A7: =IF(ISBLANK(B7),"",ROW()-1) -> 6 | B7: 勤務先１ | C7: 部署Ａ | E7: 電気経験 | G7: 電力会社における施設工事に係る設計業務等 | H7: 41365 | I7: 42094 | J7: フルタイム | M7: =EOMONTH(H7-1,0)+1 -> 41365 | N7: =EOMONTH(I7+1,-1) -> 42094 | O7: =IFERROR(DATEDIF(M7,N7+1,"M"),0) -> 24 | P7: =IF(N7+1<M7,I7-H7+1,(M7-H7)+(I7-N7)) -> 0 | Q7: =IF(I7>'入力シート（基本情報）'!$I$1,1,0) -> 1 | R7: =IFERROR(VLOOKUP($F7,リスト用!$P:$Q,2,FALSE)*VLOOKUP($J7,リスト用!$H:$I,2,FALSE)*O7*Q7,0) -> 0 | S7: =IFERROR(VLOOKUP($F7,リスト用!$P:$Q,2,FALSE)*VLOOKUP($J7,リスト用!$H:$I,2,FALSE)*P7*Q7,0) -> 0 | U7: =INT(R7) -> 0 | V7: =(R7-U7)*30+S7 -> 0 | W7: =IF(D7="高校３",0,1) -> 1 | X7: =IFERROR(VLOOKUP($E7,リスト用!$M:$N,2,FALSE)*VLOOKUP($J7,リスト用!$H:$I,2,FALSE)*O7*W7,0) -> 24 | Y7: =IFERROR(VLOOKUP($E7,リスト用!$M:$N,2,FALSE)*VLOOKUP($J7,リスト用!$H:$I,2,FALSE)*P7*W7,0) -> 0 | AA7: =INT(X7) -> 24 | AB7: =(X7-AA7)*30+Y7 -> 0
A8: =IF(ISBLANK(B8),"",ROW()-1) -> 7 | B8: 勤務先１ | C8: 部署Ｂ | E8: 電気経験 | H8: 42095 | I8: 42155 | J8: フルタイム | M8: =EOMONTH(H8-1,0)+1 -> 42095 | N8: =EOMONTH(I8+1,-1) -> 42155 | O8: =IFERROR(DATEDIF(M8,N8+1,"M"),0) -> 2 | P8: =IF(N8+1<M8,I8-H8+1,(M8-H8)+(I8-N8)) -> 0 | Q8: =IF(I8>'入力シート（基本情報）'!$I$1,1,0) -> 1 | R8: =IFERROR(VLOOKUP($F8,リスト用!$P:$Q,2,FALSE)*VLOOKUP($J8,リスト用!$H:$I,2,FALSE)*O8*Q8,0) -> 0 | S8: =IFERROR(VLOOKUP($F8,リスト用!$P:$Q,2,FALSE)*VLOOKUP($J8,リスト用!$H:$I,2,FALSE)*P8*Q8,0) -> 0 | U8: =INT(R8) -> 0 | V8: =(R8-U8)*30+S8 -> 0 | W8: =IF(D8="高校３",0,1) -> 1 | X8: =IFERROR(VLOOKUP($E8,リスト用!$M:$N,2,FALSE)*VLOOKUP($J8,リスト用!$H:$I,2,FALSE)*O8*W8,0) -> 2 | Y8: =IFERROR(VLOOKUP($E8,リスト用!$M:$N,2,FALSE)*VLOOKUP($J8,リスト用!$H:$I,2,FALSE)*P8*W8,0) -> 0 | AA8: =INT(X8) -> 2 | AB8: =(X8-AA8)*30+Y8 -> 0
A9: =IF(ISBLANK(B9),"",ROW()-1) -> 8 | B9: 勤務先１ | C9: 部署Ｂ | E9: その他 | G9: 育児休業 | H9: 42156 | I9: 42308 | J9: 休職等（３か月以上のもの） | M9: =EOMONTH(H9-1,0)+1 -> 42156 | N9: =EOMONTH(I9+1,-1) -> 42308 | O9: =IFERROR(DATEDIF(M9,N9+1,"M"),0) -> 5 | P9: =IF(N9+1<M9,I9-H9+1,(M9-H9)+(I9-N9)) -> 0 | Q9: =IF(I9>'入力シート（基本情報）'!$I$1,1,0) -> 1 | R9: =IFERROR(VLOOKUP($F9,リスト用!$P:$Q,2,FALSE)*VLOOKUP($J9,リスト用!$H:$I,2,FALSE)*O9*Q9,0) -> 0 | S9: =IFERROR(VLOOKUP($F9,リスト用!$P:$Q,2,FALSE)*VLOOKUP($J9,リスト用!$H:$I,2,FALSE)*P9*Q9,0) -> 0 | U9: =INT(R9) -> 0 | V9: =(R9-U9)*30+S9 -> 0 | W9: =IF(D9="高校３",0,1) -> 1 | X9: =IFERROR(VLOOKUP($E9,リスト用!$M:$N,2,FALSE)*VLOOKUP($J9,リスト用!$H:$I,2,FALSE)*O9*W9,0) -> 0 | Y9: =IFERROR(VLOOKUP($E9,リスト用!$M:$N,2,FALSE)*VLOOKUP($J9,リスト用!$H:$I,2,FALSE)*P9*W9,0) -> 0 | AA9: =INT(X9) -> 0 | AB9: =(X9-AA9)*30+Y9 -> 0
A10: =IF(ISBLANK(B10),"",ROW()-1) -> 9 | B10: 勤務先１ | C10: 部署Ｂ | E10: 電気以外の職務経験 | H10: 42309 | I10: 42366 | J10: フルタイム | M10: =EOMONTH(H10-1,0)+1 -> 42309 | N10: =EOMONTH(I10+1,-1) -> 42338 | O10: =IFERROR(DATEDIF(M10,N10+1,"M"),0) -> 1 | P10: =IF(N10+1<M10,I10-H10+1,(M10-H10)+(I10-N10)) -> 28 | Q10: =IF(I10>'入力シート（基本情報）'!$I$1,1,0) -> 1 | R10: =IFERROR(VLOOKUP($F10,リスト用!$P:$Q,2,FALSE)*VLOOKUP($J10,リスト用!$H:$I,2,FALSE)*O10*Q10,0) -> 0 | S10: =IFERROR(VLOOKUP($F10,リスト用!$P:$Q,2,FALSE)*VLOOKUP($J10,リスト用!$H:$I,2,FALSE)*P10*Q10,0) -> 0 | U10: =INT(R10) -> 0 | V10: =(R10-U10)*30+S10 -> 0 | W10: =IF(D10="高校３",0,1) -> 1 | X10: =IFERROR(VLOOKUP($E10,リスト用!$M:$N,2,FALSE)*VLOOKUP($J10,リスト用!$H:$I,2,FALSE)*O10*W10,0) -> 0 | Y10: =IFERROR(VLOOKUP($E10,リスト用!$M:$N,2,FALSE)*VLOOKUP($J10,リスト用!$H:$I,2,FALSE)*P10*W10,0) -> 0 | AA10: =INT(X10) -> 0 | AB10: =(X10-AA10)*30+Y10 -> 0
A11: =IF(ISBLANK(B11),"",ROW()-1) -> 10 | B11: 在家庭 | E11: 在家庭 | H11: 42367 | I11: 42372 | J11: 29時間未満、在家庭、浪人等 | M11: =EOMONTH(H11-1,0)+1 -> 42370 | N11: =EOMONTH(I11+1,-1) -> 42369 | O11: =IFERROR(DATEDIF(M11,N11+1,"M"),0) -> 0 | P11: =IF(N11+1<M11,I11-H11+1,(M11-H11)+(I11-N11)) -> 6 | Q11: =IF(I11>'入力シート（基本情報）'!$I$1,1,0) -> 1 | R11: =IFERROR(VLOOKUP($F11,リスト用!$P:$Q,2,FALSE)*VLOOKUP($J11,リスト用!$H:$I,2,FALSE)*O11*Q11,0) -> 0 | S11: =IFERROR(VLOOKUP($F11,リスト用!$P:$Q,2,FALSE)*VLOOKUP($J11,リスト用!$H:$I,2,FALSE)*P11*Q11,0) -> 0 | U11: =INT(R11) -> 0 | V11: =(R11-U11)*30+S11 -> 0 | W11: =IF(D11="高校３",0,1) -> 1 | X11: =IFERROR(VLOOKUP($E11,リスト用!$M:$N,2,FALSE)*VLOOKUP($J11,リスト用!$H:$I,2,FALSE)*O11*W11,0) -> 0 | Y11: =IFERROR(VLOOKUP($E11,リスト用!$M:$N,2,FALSE)*VLOOKUP($J11,リスト用!$H:$I,2,FALSE)*P11*W11,0) -> 0 | AA11: =INT(X11) -> 0 | AB11: =(X11-AA11)*30+Y11 -> 0
A12: =IF(ISBLANK(B12),"",ROW()-1) -> 11 | B12: 勤務先２ | C12: 部署Ｃ | E12: 電気以外の職務経験 | G12: 営業 | H12: 42373 | I12: 42429 | J12: 29時間以上38時間45分未満 | M12: =EOMONTH(H12-1,0)+1 -> 42401 | N12: =EOMONTH(I12+1,-1) -> 42429 | O12: =IFERROR(DATEDIF(M12,N12+1,"M"),0) -> 1 | P12: =IF(N12+1<M12,I12-H12+1,(M12-H12)+(I12-N12)) -> 28 | Q12: =IF(I12>'入力シート（基本情報）'!$I$1,1,0) -> 1 | R12: =IFERROR(VLOOKUP($F12,リスト用!$P:$Q,2,FALSE)*VLOOKUP($J12,リスト用!$H:$I,2,FALSE)*O12*Q12,0) -> 0 | S12: =IFERROR(VLOOKUP($F12,リスト用!$P:$Q,2,FALSE)*VLOOKUP($J12,リスト用!$H:$I,2,FALSE)*P12*Q12,0) -> 0 | U12: =INT(R12) -> 0 | V12: =(R12-U12)*30+S12 -> 0 | W12: =IF(D12="高校３",0,1) -> 1 | X12: =IFERROR(VLOOKUP($E12,リスト用!$M:$N,2,FALSE)*VLOOKUP($J12,リスト用!$H:$I,2,FALSE)*O12*W12,0) -> 0 | Y12: =IFERROR(VLOOKUP($E12,リスト用!$M:$N,2,FALSE)*VLOOKUP($J12,リスト用!$H:$I,2,FALSE)*P12*W12,0) -> 0 | AA12: =INT(X12) -> 0 | AB12: =(X12-AA12)*30+Y12 -> 0
A13: =IF(ISBLANK(B13),"",ROW()-1) -> 12 | B13: 在家庭 | E13: 在家庭 | H13: 42430 | I13: 42460 | J13: 29時間未満、在家庭、浪人等 | M13: =EOMONTH(H13-1,0)+1 -> 42430 | N13: =EOMONTH(I13+1,-1) -> 42460 | O13: =IFERROR(DATEDIF(M13,N13+1,"M"),0) -> 1 | P13: =IF(N13+1<M13,I13-H13+1,(M13-H13)+(I13-N13)) -> 0 | Q13: =IF(I13>'入力シート（基本情報）'!$I$1,1,0) -> 1 | R13: =IFERROR(VLOOKUP($F13,リスト用!$P:$Q,2,FALSE)*VLOOKUP($J13,リスト用!$H:$I,2,FALSE)*O13*Q13,0) -> 0 | S13: =IFERROR(VLOOKUP($F13,リスト用!$P:$Q,2,FALSE)*VLOOKUP($J13,リスト用!$H:$I,2,FALSE)*P13*Q13,0) -> 0 | U13: =INT(R13) -> 0 | V13: =(R13-U13)*30+S13 -> 0 | W13: =IF(D13="高校３",0,1) -> 1 | X13: =IFERROR(VLOOKUP($E13,リスト用!$M:$N,2,FALSE)*VLOOKUP($J13,リスト用!$H:$I,2,FALSE)*O13*W13,0) -> 0 | Y13: =IFERROR(VLOOKUP($E13,リスト用!$M:$N,2,FALSE)*VLOOKUP($J13,リスト用!$H:$I,2,FALSE)*P13*W13,0) -> 0 | AA13: =INT(X13) -> 0 | AB13: =(X13-AA13)*30+Y13 -> 0
A14: =IF(ISBLANK(B14),"",ROW()-1) -> 13 | B14: 勤務先３ | C14: 部署Ｄ | E14: 電気経験 | G14: 電力会社における施設工事に係る設計業務等 | H14: 42461 | I14: 46477 | J14: フルタイム | M14: =EOMONTH(H14-1,0)+1 -> 42461 | N14: =EOMONTH(I14+1,-1) -> 46477 | O14: =IFERROR(DATEDIF(M14,N14+1,"M"),0) -> 132 | P14: =IF(N14+1<M14,I14-H14+1,(M14-H14)+(I14-N14)) -> 0 | Q14: =IF(I14>'入力シート（基本情報）'!$I$1,1,0) -> 1 | R14: =IFERROR(VLOOKUP($F14,リスト用!$P:$Q,2,FALSE)*VLOOKUP($J14,リスト用!$H:$I,2,FALSE)*O14*Q14,0) -> 0 | S14: =IFERROR(VLOOKUP($F14,リスト用!$P:$Q,2,FALSE)*VLOOKUP($J14,リスト用!$H:$I,2,FALSE)*P14*Q14,0) -> 0 | U14: =INT(R14) -> 0 | V14: =(R14-U14)*30+S14 -> 0 | W14: =IF(D14="高校３",0,1) -> 1 | X14: =IFERROR(VLOOKUP($E14,リスト用!$M:$N,2,FALSE)*VLOOKUP($J14,リスト用!$H:$I,2,FALSE)*O14*W14,0) -> 132 | Y14: =IFERROR(VLOOKUP($E14,リスト用!$M:$N,2,FALSE)*VLOOKUP($J14,リスト用!$H:$I,2,FALSE)*P14*W14,0) -> 0 | AA14: =INT(X14) -> 132 | AB14: =(X14-AA14)*30+Y14 -> 0
A15: =IF(ISBLANK(B15),"",ROW()-1) | M15: =EOMONTH(H15-1,0)+1 -> #NUM! | N15: =EOMONTH(I15+1,-1) -> #NUM! | O15: =IFERROR(DATEDIF(M15,N15+1,"M"),0) -> 0 | P15: =IF(N15+1<M15,I15-H15+1,(M15-H15)+(I15-N15)) -> #NUM! | Q15: =IF(I15>'入力シート（基本情報）'!$I$1,1,0) -> 0 | R15: =IFERROR(VLOOKUP($F15,リスト用!$P:$Q,2,FALSE)*VLOOKUP($J15,リスト用!$H:$I,2,FALSE)*O15*Q15,0) -> 0 | S15: =IFERROR(VLOOKUP($F15,リスト用!$P:$Q,2,FALSE)*VLOOKUP($J15,リスト用!$H:$I,2,FALSE)*P15*Q15,0) -> 0 | U15: =INT(R15) -> 0 | V15: =(R15-U15)*30+S15 -> 0 | W15: =IF(D15="高校３",0,1) -> 1 | X15: =IFERROR(VLOOKUP($E15,リスト用!$M:$N,2,FALSE)*VLOOKUP($J15,リスト用!$H:$I,2,FALSE)*O15*W15,0) -> 0 | Y15: =IFERROR(VLOOKUP($E15,リスト用!$M:$N,2,FALSE)*VLOOKUP($J15,リスト用!$H:$I,2,FALSE)*P15*W15,0) -> 0 | AA15: =INT(X15) -> 0 | AB15: =(X15-AA15)*30+Y15 -> 0
A16: =IF(ISBLANK(B16),"",ROW()-1) | M16: =EOMONTH(H16-1,0)+1 -> #NUM! | N16: =EOMONTH(I16+1,-1) -> #NUM! | O16: =IFERROR(DATEDIF(M16,N16+1,"M"),0) -> 0 | P16: =IF(N16+1<M16,I16-H16+1,(M16-H16)+(I16-N16)) -> #NUM! | Q16: =IF(I16>'入力シート（基本情報）'!$I$1,1,0) -> 0 | R16: =IFERROR(VLOOKUP($F16,リスト用!$P:$Q,2,FALSE)*VLOOKUP($J16,リスト用!$H:$I,2,FALSE)*O16*Q16,0) -> 0 | S16: =IFERROR(VLOOKUP($F16,リスト用!$P:$Q,2,FALSE)*VLOOKUP($J16,リスト用!$H:$I,2,FALSE)*P16*Q16,0) -> 0 | U16: =INT(R16) -> 0 | V16: =(R16-U16)*30+S16 -> 0 | W16: =IF(D16="高校３",0,1) -> 1 | X16: =IFERROR(VLOOKUP($E16,リスト用!$M:$N,2,FALSE)*VLOOKUP($J16,リスト用!$H:$I,2,FALSE)*O16*W16,0) -> 0 | Y16: =IFERROR(VLOOKUP($E16,リスト用!$M:$N,2,FALSE)*VLOOKUP($J16,リスト用!$H:$I,2,FALSE)*P16*W16,0) -> 0 | AA16: =INT(X16) -> 0 | AB16: =(X16-AA16)*30+Y16 -> 0
A17: =IF(ISBLANK(B17),"",ROW()-1) | M17: =EOMONTH(H17-1,0)+1 -> #NUM! | N17: =EOMONTH(I17+1,-1) -> #NUM! | O17: =IFERROR(DATEDIF(M17,N17+1,"M"),0) -> 0 | P17: =IF(N17+1<M17,I17-H17+1,(M17-H17)+(I17-N17)) -> #NUM! | Q17: =IF(I17>'入力シート（基本情報）'!$I$1,1,0) -> 0 | R17: =IFERROR(VLOOKUP($F17,リスト用!$P:$Q,2,FALSE)*VLOOKUP($J17,リスト用!$H:$I,2,FALSE)*O17*Q17,0) -> 0 | S17: =IFERROR(VLOOKUP($F17,リスト用!$P:$Q,2,FALSE)*VLOOKUP($J17,リスト用!$H:$I,2,FALSE)*P17*Q17,0) -> 0 | U17: =INT(R17) -> 0 | V17: =(R17-U17)*30+S17 -> 0 | W17: =IF(D17="高校３",0,1) -> 1 | X17: =IFERROR(VLOOKUP($E17,リスト用!$M:$N,2,FALSE)*VLOOKUP($J17,リスト用!$H:$I,2,FALSE)*O17*W17,0) -> 0 | Y17: =IFERROR(VLOOKUP($E17,リスト用!$M:$N,2,FALSE)*VLOOKUP($J17,リスト用!$H:$I,2,FALSE)*P17*W17,0) -> 0 | AA17: =INT(X17) -> 0 | AB17: =(X17-AA17)*30+Y17 -> 0
A18: =IF(ISBLANK(B18),"",ROW()-1) | M18: =EOMONTH(H18-1,0)+1 -> #NUM! | N18: =EOMONTH(I18+1,-1) -> #NUM! | O18: =IFERROR(DATEDIF(M18,N18+1,"M"),0) -> 0 | P18: =IF(N18+1<M18,I18-H18+1,(M18-H18)+(I18-N18)) -> #NUM! | Q18: =IF(I18>'入力シート（基本情報）'!$I$1,1,0) -> 0 | R18: =IFERROR(VLOOKUP($F18,リスト用!$P:$Q,2,FALSE)*VLOOKUP($J18,リスト用!$H:$I,2,FALSE)*O18*Q18,0) -> 0 | S18: =IFERROR(VLOOKUP($F18,リスト用!$P:$Q,2,FALSE)*VLOOKUP($J18,リスト用!$H:$I,2,FALSE)*P18*Q18,0) -> 0 | U18: =INT(R18) -> 0 | V18: =(R18-U18)*30+S18 -> 0 | W18: =IF(D18="高校３",0,1) -> 1 | X18: =IFERROR(VLOOKUP($E18,リスト用!$M:$N,2,FALSE)*VLOOKUP($J18,リスト用!$H:$I,2,FALSE)*O18*W18,0) -> 0 | Y18: =IFERROR(VLOOKUP($E18,リスト用!$M:$N,2,FALSE)*VLOOKUP($J18,リスト用!$H:$I,2,FALSE)*P18*W18,0) -> 0 | AA18: =INT(X18) -> 0 | AB18: =(X18-AA18)*30+Y18 -> 0
A19: =IF(ISBLANK(B19),"",ROW()-1) | M19: =EOMONTH(H19-1,0)+1 -> #NUM! | N19: =EOMONTH(I19+1,-1) -> #NUM! | O19: =IFERROR(DATEDIF(M19,N19+1,"M"),0) -> 0 | P19: =IF(N19+1<M19,I19-H19+1,(M19-H19)+(I19-N19)) -> #NUM! | Q19: =IF(I19>'入力シート（基本情報）'!$I$1,1,0) -> 0 | R19: =IFERROR(VLOOKUP($F19,リスト用!$P:$Q,2,FALSE)*VLOOKUP($J19,リスト用!$H:$I,2,FALSE)*O19*Q19,0) -> 0 | S19: =IFERROR(VLOOKUP($F19,リスト用!$P:$Q,2,FALSE)*VLOOKUP($J19,リスト用!$H:$I,2,FALSE)*P19*Q19,0) -> 0 | U19: =INT(R19) -> 0 | V19: =(R19-U19)*30+S19 -> 0 | W19: =IF(D19="高校３",0,1) -> 1 | X19: =IFERROR(VLOOKUP($E19,リスト用!$M:$N,2,FALSE)*VLOOKUP($J19,リスト用!$H:$I,2,FALSE)*O19*W19,0) -> 0 | Y19: =IFERROR(VLOOKUP($E19,リスト用!$M:$N,2,FALSE)*VLOOKUP($J19,リスト用!$H:$I,2,FALSE)*P19*W19,0) -> 0 | AA19: =INT(X19) -> 0 | AB19: =(X19-AA19)*30+Y19 -> 0
A20: =IF(ISBLANK(B20),"",ROW()-1) | M20: =EOMONTH(H20-1,0)+1 -> #NUM! | N20: =EOMONTH(I20+1,-1) -> #NUM! | O20: =IFERROR(DATEDIF(M20,N20+1,"M"),0) -> 0 | P20: =IF(N20+1<M20,I20-H20+1,(M20-H20)+(I20-N20)) -> #NUM! | Q20: =IF(I20>'入力シート（基本情報）'!$I$1,1,0) -> 0 | R20: =IFERROR(VLOOKUP($F20,リスト用!$P:$Q,2,FALSE)*VLOOKUP($J20,リスト用!$H:$I,2,FALSE)*O20*Q20,0) -> 0 | S20: =IFERROR(VLOOKUP($F20,リスト用!$P:$Q,2,FALSE)*VLOOKUP($J20,リスト用!$H:$I,2,FALSE)*P20*Q20,0) -> 0 | U20: =INT(R20) -> 0 | V20: =(R20-U20)*30+S20 -> 0 | W20: =IF(D20="高校３",0,1) -> 1 | X20: =IFERROR(VLOOKUP($E20,リスト用!$M:$N,2,FALSE)*VLOOKUP($J20,リスト用!$H:$I,2,FALSE)*O20*W20,0) -> 0 | Y20: =IFERROR(VLOOKUP($E20,リスト用!$M:$N,2,FALSE)*VLOOKUP($J20,リスト用!$H:$I,2,FALSE)*P20*W20,0) -> 0 | AA20: =INT(X20) -> 0 | AB20: =(X20-AA20)*30+Y20 -> 0
A21: =IF(ISBLANK(B21),"",ROW()-1) | M21: =EOMONTH(H21-1,0)+1 -> #NUM! | N21: =EOMONTH(I21+1,-1) -> #NUM! | O21: =IFERROR(DATEDIF(M21,N21+1,"M"),0) -> 0 | P21: =IF(N21+1<M21,I21-H21+1,(M21-H21)+(I21-N21)) -> #NUM! | Q21: =IF(I21>'入力シート（基本情報）'!$I$1,1,0) -> 0 | R21: =IFERROR(VLOOKUP($F21,リスト用!$P:$Q,2,FALSE)*VLOOKUP($J21,リスト用!$H:$I,2,FALSE)*O21*Q21,0) -> 0 | S21: =IFERROR(VLOOKUP($F21,リスト用!$P:$Q,2,FALSE)*VLOOKUP($J21,リスト用!$H:$I,2,FALSE)*P21*Q21,0) -> 0 | U21: =INT(R21) -> 0 | V21: =(R21-U21)*30+S21 -> 0 | W21: =IF(D21="高校３",0,1) -> 1 | X21: =IFERROR(VLOOKUP($E21,リスト用!$M:$N,2,FALSE)*VLOOKUP($J21,リスト用!$H:$I,2,FALSE)*O21*W21,0) -> 0 | Y21: =IFERROR(VLOOKUP($E21,リスト用!$M:$N,2,FALSE)*VLOOKUP($J21,リスト用!$H:$I,2,FALSE)*P21*W21,0) -> 0 | AA21: =INT(X21) -> 0 | AB21: =(X21-AA21)*30+Y21 -> 0
A22: =IF(ISBLANK(B22),"",ROW()-1) | M22: =EOMONTH(H22-1,0)+1 -> #NUM! | N22: =EOMONTH(I22+1,-1) -> #NUM! | O22: =IFERROR(DATEDIF(M22,N22+1,"M"),0) -> 0 | P22: =IF(N22+1<M22,I22-H22+1,(M22-H22)+(I22-N22)) -> #NUM! | Q22: =IF(I22>'入力シート（基本情報）'!$I$1,1,0) -> 0 | R22: =IFERROR(VLOOKUP($F22,リスト用!$P:$Q,2,FALSE)*VLOOKUP($J22,リスト用!$H:$I,2,FALSE)*O22*Q22,0) -> 0 | S22: =IFERROR(VLOOKUP($F22,リスト用!$P:$Q,2,FALSE)*VLOOKUP($J22,リスト用!$H:$I,2,FALSE)*P22*Q22,0) -> 0 | U22: =INT(R22) -> 0 | V22: =(R22-U22)*30+S22 -> 0 | W22: =IF(D22="高校３",0,1) -> 1 | X22: =IFERROR(VLOOKUP($E22,リスト用!$M:$N,2,FALSE)*VLOOKUP($J22,リスト用!$H:$I,2,FALSE)*O22*W22,0) -> 0 | Y22: =IFERROR(VLOOKUP($E22,リスト用!$M:$N,2,FALSE)*VLOOKUP($J22,リスト用!$H:$I,2,FALSE)*P22*W22,0) -> 0 | AA22: =INT(X22) -> 0 | AB22: =(X22-AA22)*30+Y22 -> 0
A23: =IF(ISBLANK(B23),"",ROW()-1) | M23: =EOMONTH(H23-1,0)+1 -> #NUM! | N23: =EOMONTH(I23+1,-1) -> #NUM! | O23: =IFERROR(DATEDIF(M23,N23+1,"M"),0) -> 0 | P23: =IF(N23+1<M23,I23-H23+1,(M23-H23)+(I23-N23)) -> #NUM! | Q23: =IF(I23>'入力シート（基本情報）'!$I$1,1,0) -> 0 | R23: =IFERROR(VLOOKUP($F23,リスト用!$P:$Q,2,FALSE)*VLOOKUP($J23,リスト用!$H:$I,2,FALSE)*O23*Q23,0) -> 0 | S23: =IFERROR(VLOOKUP($F23,リスト用!$P:$Q,2,FALSE)*VLOOKUP($J23,リスト用!$H:$I,2,FALSE)*P23*Q23,0) -> 0 | U23: =INT(R23) -> 0 | V23: =(R23-U23)*30+S23 -> 0 | W23: =IF(D23="高校３",0,1) -> 1 | X23: =IFERROR(VLOOKUP($E23,リスト用!$M:$N,2,FALSE)*VLOOKUP($J23,リスト用!$H:$I,2,FALSE)*O23*W23,0) -> 0 | Y23: =IFERROR(VLOOKUP($E23,リスト用!$M:$N,2,FALSE)*VLOOKUP($J23,リスト用!$H:$I,2,FALSE)*P23*W23,0) -> 0 | AA23: =INT(X23) -> 0 | AB23: =(X23-AA23)*30+Y23 -> 0
A24: =IF(ISBLANK(B24),"",ROW()-1) | M24: =EOMONTH(H24-1,0)+1 -> #NUM! | N24: =EOMONTH(I24+1,-1) -> #NUM! | O24: =IFERROR(DATEDIF(M24,N24+1,"M"),0) -> 0 | P24: =IF(N24+1<M24,I24-H24+1,(M24-H24)+(I24-N24)) -> #NUM! | Q24: =IF(I24>'入力シート（基本情報）'!$I$1,1,0) -> 0 | R24: =IFERROR(VLOOKUP($F24,リスト用!$P:$Q,2,FALSE)*VLOOKUP($J24,リスト用!$H:$I,2,FALSE)*O24*Q24,0) -> 0 | S24: =IFERROR(VLOOKUP($F24,リスト用!$P:$Q,2,FALSE)*VLOOKUP($J24,リスト用!$H:$I,2,FALSE)*P24*Q24,0) -> 0 | U24: =INT(R24) -> 0 | V24: =(R24-U24)*30+S24 -> 0 | W24: =IF(D24="高校３",0,1) -> 1 | X24: =IFERROR(VLOOKUP($E24,リスト用!$M:$N,2,FALSE)*VLOOKUP($J24,リスト用!$H:$I,2,FALSE)*O24*W24,0) -> 0 | Y24: =IFERROR(VLOOKUP($E24,リスト用!$M:$N,2,FALSE)*VLOOKUP($J24,リスト用!$H:$I,2,FALSE)*P24*W24,0) -> 0 | AA24: =INT(X24) -> 0 | AB24: =(X24-AA24)*30+Y24 -> 0
A25: =IF(ISBLANK(B25),"",ROW()-1) | M25: =EOMONTH(H25-1,0)+1 -> #NUM! | N25: =EOMONTH(I25+1,-1) -> #NUM! | O25: =IFERROR(DATEDIF(M25,N25+1,"M"),0) -> 0 | P25: =IF(N25+1<M25,I25-H25+1,(M25-H25)+(I25-N25)) -> #NUM! | Q25: =IF(I25>'入力シート（基本情報）'!$I$1,1,0) -> 0 | R25: =IFERROR(VLOOKUP($F25,リスト用!$P:$Q,2,FALSE)*VLOOKUP($J25,リスト用!$H:$I,2,FALSE)*O25*Q25,0) -> 0 | S25: =IFERROR(VLOOKUP($F25,リスト用!$P:$Q,2,FALSE)*VLOOKUP($J25,リスト用!$H:$I,2,FALSE)*P25*Q25,0) -> 0 | U25: =INT(R25) -> 0 | V25: =(R25-U25)*30+S25 -> 0 | W25: =IF(D25="高校３",0,1) -> 1 | X25: =IFERROR(VLOOKUP($E25,リスト用!$M:$N,2,FALSE)*VLOOKUP($J25,リスト用!$H:$I,2,FALSE)*O25*W25,0) -> 0 | Y25: =IFERROR(VLOOKUP($E25,リスト用!$M:$N,2,FALSE)*VLOOKUP($J25,リスト用!$H:$I,2,FALSE)*P25*W25,0) -> 0 | AA25: =INT(X25) -> 0 | AB25: =(X25-AA25)*30+Y25 -> 0
A26: =IF(ISBLANK(B26),"",ROW()-1) | M26: =EOMONTH(H26-1,0)+1 -> #NUM! | N26: =EOMONTH(I26+1,-1) -> #NUM! | O26: =IFERROR(DATEDIF(M26,N26+1,"M"),0) -> 0 | P26: =IF(N26+1<M26,I26-H26+1,(M26-H26)+(I26-N26)) -> #NUM! | Q26: =IF(I26>'入力シート（基本情報）'!$I$1,1,0) -> 0 | R26: =IFERROR(VLOOKUP($F26,リスト用!$P:$Q,2,FALSE)*VLOOKUP($J26,リスト用!$H:$I,2,FALSE)*O26*Q26,0) -> 0 | S26: =IFERROR(VLOOKUP($F26,リスト用!$P:$Q,2,FALSE)*VLOOKUP($J26,リスト用!$H:$I,2,FALSE)*P26*Q26,0) -> 0 | U26: =INT(R26) -> 0 | V26: =(R26-U26)*30+S26 -> 0 | W26: =IF(D26="高校３",0,1) -> 1 | X26: =IFERROR(VLOOKUP($E26,リスト用!$M:$N,2,FALSE)*VLOOKUP($J26,リスト用!$H:$I,2,FALSE)*O26*W26,0) -> 0 | Y26: =IFERROR(VLOOKUP($E26,リスト用!$M:$N,2,FALSE)*VLOOKUP($J26,リスト用!$H:$I,2,FALSE)*P26*W26,0) -> 0 | AA26: =INT(X26) -> 0 | AB26: =(X26-AA26)*30+Y26 -> 0
... A103: =IF(ISBLANK(B103),"",ROW()-1) | M103: =EOMONTH(H103-1,0)+1 -> #NUM! | N103: =EOMONTH(I103+1,-1) -> #NUM! | O103: =IFERROR(DATEDIF(M103,N103+1,"M"),0) -> 0 | P103: =IF(N103+1<M103,I103-H103+1,(M103-H103)+(I103-N103)) -> #NUM! | Q103: =IF(I103>'入力シート（基本情報）'!$I$1,1,0) -> 0 | R103: =IFERROR(VLOOKUP($F103,リスト用!$P:$Q,2,FALSE)*VLOOKUP($J103,リスト用!$H:$I,2,FALSE)*O103*Q103,0) -> 0 | S103: =IFERROR(VLOOKUP($F103,リスト用!$P:$Q,2,FALSE)*VLOOKUP($J103,リスト用!$H:$I,2,FALSE)*P103*Q103,0) -> 0 | U103: =INT(R103) -> 0 | V103: =(R103-U103)*30+S103 -> 0 | W103: =IF(D103="高校３",0,1) -> 1 | X103: =IFERROR(VLOOKUP($E103,リスト用!$M:$N,2,FALSE)*VLOOKUP($J103,リスト用!$H:$I,2,FALSE)*O103*W103,0) -> 0 | Y103: =IFERROR(VLOOKUP($E103,リスト用!$M:$N,2,FALSE)*VLOOKUP($J103,リスト用!$H:$I,2,FALSE)*P103*W103,0) -> 0 | AA103: =INT(X103) -> 0 | AB103: =(X103-AA103)*30+Y103 -> 0

Sheet 発令登録
A1: sys.mode | B1: idou_hr_plan.kosin_sub_id | C1: idou_hr_plan.idp_trn_id | D1: idou_hr_plan.person_bg | E1: idou_hr_plan.sya_bg | F1: idou_hr_plan.sya_nm | G1: idou_hr_plan.sya_kn | H1: idou_hr_plan.sebetu | I1: idou_hr_plan.birthday | J1: idou_hr_plan.hatdate | K1: idou_hr_plan.hrkb_cd | L1: idou_hr_plan.hrnai_kb | M1: idou_hr_plan.hrnai_bnkb | N1: idou_hr_plan.honsaiyo_dt | O1: idou_hr_plan.c_kinz_kdt | P1: idou_hr_plan.syz_cd | Q1: idou_hr_plan.yb01_cd | R1: idou_hr_plan.yb09_cd | S1: idou_hr_plan.yb10_cd | T1: idou_hr_plan.saiy_kb | U1: idou_hr_plan.enko_kb
A2: #申請種別 | B2: 更新サブ関連ID | C2: トランザクションID | D2: 統一職員番号 | E2: 職員番号 | F2: 職員氏名 | G2: 職員氏名カナ | H2: 性別C | I2: 生年月日 | J2: 発令日付 | K2: 発令区分 | L2: 発令内容区分 | M2: 発令内容分類 | N2: 採用試験合格日 | O2: 割愛採用日 | P2: 在籍所属C | Q2: 教科C | R2: 教員科目C | S2: 採用試験の種類C | T2: 採用前区分 | U2: 初任給決定区分
A3: #整数 | B3: 半角英数 | C3: 半角英数 | D3: 半角英数 | E3: 半角英数 | F3: 文字列 | G3: 文字列 | H3: 区分 | I3: 日付 | J3: 日付 | K3: 半角英数 | L3: 整数 | M3: 整数 | N3: 日付 | O3: 日付 | P3: 文字列 | Q3: 文字列 | R3: 文字列 | S3: 文字列 | T3: 区分 | U3: 区分
A4: #1[長さ] | B4: 16[長さ] | C4: 10[長さ] | D4: 10[長さ] | E4: 10[長さ] | F4: 100[長さ] | G4: 100[長さ] | H4: 5[長さ] | I4: 25[長さ] | J4: 25[長さ] | K4: 2[長さ] | L4: 5[長さ] | M4: 1[長さ] | N4: 10[長さ] | O4: 25[長さ] | P4: 14[長さ] | Q4: 10[長さ] | R4: 10[長さ] | S4: 10[長さ] | T4: 5[長さ] | U4: 5[長さ]
A5: #非対応(入力任意)[入力制御メンテナンス：必須入力区分] | B5: 入力任意[入力制御メンテナンス：必須入力区分] | C5: 非対応(入力任意)[入力制御メンテナンス：必須入力区分] | D5: 入力任意[入力制御メンテナンス：必須入力区分] | E5: 入力任意[入力制御メンテナンス：必須入力区分] | F5: 新規追加時入力必須[入力制御メンテナンス：必須入力区分] | G5: 入力任意[入力制御メンテナンス：必須入力区分] | H5: 入力任意[入力制御メンテナンス：必須入力区分] | I5: 入力任意[入力制御メンテナンス：必須入力区分] | J5: 新規追加時入力必須[入力制御メンテナンス：必須入力区分] | K5: 非対応(入力任意)[入力制御メンテナンス：必須入力区分] | L5: 入力任意[入力制御メンテナンス：必須入力区分] | M5: 非対応(入力任意)[入力制御メンテナンス：必須入力区分] | N5: 入力任意[入力制御メンテナンス：必須入力区分] | O5: 新規追加時入力必須[入力制御メンテナンス：必須入力区分] | P5: 新規追加時入力必須[入力制御メンテナンス：必須入力区分] | Q5: 入力任意[入力制御メンテナンス：必須入力区分] | R5: 入力任意[入力制御メンテナンス：必須入力区分] | S5: 入力任意[入力制御メンテナンス：必須入力区分] | T5: 入力任意[入力制御メンテナンス：必須入力区分] | U5: 入力任意[入力制御メンテナンス：必須入力区分]
A6: #ヘッダー任意[ヘッダー要否] | B6: ヘッダー必須[ヘッダー要否] | C6: ヘッダー必須[ヘッダー要否] | D6: ヘッダー任意[ヘッダー要否] | E6: ヘッダー必須[ヘッダー要否] | F6: ヘッダー任意[ヘッダー要否] | G6: ヘッダー任意[ヘッダー要否] | H6: ヘッダー任意[ヘッダー要否] | I6: ヘッダー任意[ヘッダー要否] | J6: ヘッダー必須[ヘッダー要否] | K6: ヘッダー必須[ヘッダー要否] | L6: ヘッダー必須[ヘッダー要否] | M6: ヘッダー任意[ヘッダー要否] | N6: ヘッダー任意[ヘッダー要否] | O6: ヘッダー任意[ヘッダー要否] | P6: ヘッダー任意[ヘッダー要否] | Q6: ヘッダー任意[ヘッダー要否] | R6: ヘッダー任意[ヘッダー要否] | S6: ヘッダー任意[ヘッダー要否] | T6: ヘッダー任意[ヘッダー要否] | U6: ヘッダー任意[ヘッダー要否]
A7: #項目任意[項目データ要否] | B7: 項目必須[項目データ要否] | C7: 項目必須[項目データ要否] | D7: 項目任意[項目データ要否] | E7: 項目必須[項目データ要否] | F7: 項目任意[項目データ要否] | G7: 項目任意[項目データ要否] | H7: 項目任意[項目データ要否] | I7: 項目任意[項目データ要否] | J7: 項目必須[項目データ要否] | K7: 項目必須[項目データ要否] | L7: 項目必須[項目データ要否] | M7: 項目任意[項目データ要否] | N7: 項目任意[項目データ要否] | O7: 項目任意[項目データ要否] | P7: 項目任意[項目データ要否] | Q7: 項目任意[項目データ要否] | R7: 項目任意[項目データ要否] | S7: 項目任意[項目データ要否] | T7: 項目任意[項目データ要否] | U7: 項目任意[項目データ要否]
A8: #未使用[初期値使用区分] | B8: 未使用[初期値使用区分] | C8: 未使用[初期値使用区分] | D8: 未使用[初期値使用区分] | E8: 未使用[初期値使用区分] | F8: 未使用[初期値使用区分] | G8: 未使用[初期値使用区分] | H8: 未使用[初期値使用区分] | I8: 未使用[初期値使用区分] | J8: 未使用[初期値使用区分] | K8: 未使用[初期値使用区分] | L8: 未使用[初期値使用区分] | M8: 未使用[初期値使用区分] | N8: 未使用[初期値使用区分] | O8: 未使用[初期値使用区分] | P8: 未使用[初期値使用区分] | Q8: 未使用[初期値使用区分] | R8: 未使用[初期値使用区分] | S8: 未使用[初期値使用区分] | T8: 未使用[初期値使用区分] | U8: 未使用[初期値使用区分]
A9: #[初期値] | B9: [初期値] | C9: [初期値] | D9: [初期値] | E9: [初期値] | F9: [初期値] | G9: [初期値] | H9: [初期値] | I9: [初期値] | J9: [初期値] | K9: [初期値] | L9: [初期値] | M9: [初期値] | N9: [初期値] | O9: [初期値] | P9: [初期値] | Q9: [初期値] | R9: [初期値] | S9: [初期値] | T9: [初期値] | U9: [初期値]
A10: #1[最大値] | B10: [最大値] | C10: [最大値] | D10: [最大値] | E10: [最大値] | F10: [最大値] | G10: [最大値] | H10: [最大値] | I10: 2382/12/31[最大値] | J10: 2382/12/31[最大値] | K10: [最大値] | L10: [最大値] | M10: 1[最大値] | N10: 2382/12/31[最大値] | O10: 2382/12/31[最大値] | P10: [最大値] | Q10: [最大値] | R10: [最大値] | S10: [最大値] | T10: [最大値] | U10: [最大値]
A11: #0[最小値] | B11: [最小値] | C11: [最小値] | D11: [最小値] | E11: [最小値] | F11: [最小値] | G11: [最小値] | H11: [最小値] | I11: 1868/09/08[最小値] | J11: 1900/01/01[最小値] | K11: [最小値] | L11: [最小値] | M11: 0[最小値] | N11: 1900/01/01[最小値] | O11: 1900/01/01[最小値] | P11: [最小値] | Q11: [最小値] | R11: [最小値] | S11: [最小値] | T11: [最小値] | U11: [最小値]
A12: #設定不可[クリア文字設定可否] | B12: 設定不可[クリア文字設定可否] | C12: 設定不可[クリア文字設定可否] | D12: 設定不可[クリア文字設定可否] | E12: 設定不可[クリア文字設定可否] | F12: 設定不可[クリア文字設定可否] | G12: 設定不可[クリア文字設定可否] | H12: 設定不可[クリア文字設定可否] | I12: 設定不可[クリア文字設定可否] | J12: 設定不可[クリア文字設定可否] | K12: 設定不可[クリア文字設定可否] | L12: 設定不可[クリア文字設定可否] | M12: 設定不可[クリア文字設定可否] | N12: 設定可[クリア文字設定可否] | O12: 設定不可[クリア文字設定可否] | P12: 設定不可[クリア文字設定可否] | Q12: 設定可[クリア文字設定可否] | R12: 設定可[クリア文字設定可否] | S12: 設定可[クリア文字設定可否] | T12: 設定不可[クリア文字設定可否] | U12: 設定不可[クリア文字設定可否]

Sheet 基本情報
A1: bfr_employ | B1: data_kjdate | C1: idou.sya_bg | D1: syainjh.sya_nm_h | E1: syainjh.out_bg
A2: #雇用前区分 | B2: データ基準日 | C2: 職員番号 | D2: 戸籍氏名（外字等対応） | E2: 受験番号
A3: #整数 | B3: 日付 | C3: 半角英数 | D3: 文字列 | E3: 半角英数
A4: #1[長さ] | B4: 25[長さ] | C4: 10[長さ] | D4: 100[長さ] | E4: 20[長さ]
A5: #非対応(入力任意)[入力制御メンテナンス：必須入力区分] | B5: 非対応(入力任意)[入力制御メンテナンス：必須入力区分] | C5: 入力任意[入力制御メンテナンス：必須入力区分] | D5: 入力任意[入力制御メンテナンス：必須入力区分] | E5: 入力任意[入力制御メンテナンス：必須入力区分]
A6: #ヘッダー任意[ヘッダー要否] | B6: ヘッダー任意[ヘッダー要否] | C6: ヘッダー必須[ヘッダー要否] | D6: ヘッダー任意[ヘッダー要否] | E6: ヘッダー任意[ヘッダー要否]
A7: #項目任意[項目データ要否] | B7: 項目任意[項目データ要否] | C7: 項目必須[項目データ要否] | D7: 項目任意[項目データ要否] | E7: 項目任意[項目データ要否]
A8: #未入力時使用[初期値使用区分] | B8: 未入力時使用[初期値使用区分] | C8: 未使用[初期値使用区分] | D8: 未使用[初期値使用区分] | E8: 未使用[初期値使用区分]
A9: #1[初期値] | B9: 2382/12/31[初期値] | C9: [初期値] | D9: [初期値] | E9: [初期値]
A10: #1[最大値] | B10: 2382/12/31[最大値] | C10: [最大値] | D10: [最大値] | E10: [最大値]
A11: #0[最小値] | B11: 1868/01/01[最小値] | C11: [最小値] | D11: [最小値] | E11: [最小値]
A12: #設定不可[クリア文字設定可否] | B12: 設定不可[クリア文字設定可否] | C12: 設定不可[クリア文字設定可否] | D12: 設定可[クリア文字設定可否] | E12: 設定可[クリア文字設定可否]

Sheet 学歴情報
A1: sys.mode | B1: bfr_employ | C1: data_kjdate | D1: idou.sya_bg | E1: gakurk_mst.gak_ktkb | F1: gakurk_mst.gak_yy | G1: gakurk_mst.gak_mm | H1: gakurk_mst.sotu_yy | I1: gakurk_mst.sotu_mm | J1: gakurk_mst.sotu_kb | K1: gakurk_mst.gak_cd | L1: gakurk_mst.gak_nm | M1: gakurk_mst.gkbu_cd | N1: gakurk_mst.gkbu_nm | O1: gakurk_mst.gkka_cd | P1: gakurk_mst.gkka_nm | Q1: gakurk_mst.snko_cd | R1: gakurk_mst.snko_nm | S1: gakurk_mst.gkryob1 | T1: gakurk_mst.toki | U1: gakurk_mst.sgk_kb
A2: #申請種別 | B2: 雇用前区分 | C2: データ基準日 | D2: 職員番号 | E2: 基礎学歴区分 | F2: 入学年 | G2: 入学月 | H2: 卒業年 | I2: 卒業月 | J2: 卒修区分 | K2: 学校C | L2: 学校名 | M2: 学部C | N2: 学部名 | O2: 学科C | P2: 学科名 | Q2: 学歴備考C | R2: 学歴備考 | S2: 設立機関など | T2: 資格年数 | U2: 最終学歴区分
A3: #整数 | B3: 整数 | C3: 日付 | D3: 文字列 | E3: 区分 | F3: 整数 | G3: 整数 | H3: 整数 | I3: 整数 | J3: 区分 | K3: 文字列 | L3: 文字列 | M3: 文字列 | N3: 文字列 | O3: 文字列 | P3: 文字列 | Q3: 文字列 | R3: 文字列 | S3: 文字列 | T3: 文字列 | U3: 区分
A4: #1[長さ] | B4: 1[長さ] | C4: 25[長さ] | D4: 10[長さ] | E4: 5[長さ] | F4: 5[長さ] | G4: 3[長さ] | H4: 5[長さ] | I4: 3[長さ] | J4: 5[長さ] | K4: 10[長さ] | L4: 100[長さ] | M4: 10[長さ] | N4: 100[長さ] | O4: 10[長さ] | P4: 100[長さ] | Q4: 10[長さ] | R4: 100[長さ] | S4: 40[長さ] | T4: 30[長さ] | U4: 5[長さ]
A5: #非対応(入力任意)[入力制御メンテナンス：必須入力区分] | B5: 非対応(入力任意)[入力制御メンテナンス：必須入力区分] | C5: 非対応(入力任意)[入力制御メンテナンス：必須入力区分] | D5: 入力任意[入力制御メンテナンス：必須入力区分] | E5: 入力任意[入力制御メンテナンス：必須入力区分] | F5: 入力任意[入力制御メンテナンス：必須入力区分] | G5: 入力任意[入力制御メンテナンス：必須入力区分] | H5: 入力任意[入力制御メンテナンス：必須入力区分] | I5: 入力任意[入力制御メンテナンス：必須入力区分] | J5: 入力任意[入力制御メンテナンス：必須入力区分] | K5: 入力任意[入力制御メンテナンス：必須入力区分] | L5: 入力任意[入力制御メンテナンス：必須入力区分] | M5: 入力任意[入力制御メンテナンス：必須入力区分] | N5: 入力任意[入力制御メンテナンス：必須入力区分] | O5: 入力任意[入力制御メンテナンス：必須入力区分] | P5: 入力任意[入力制御メンテナンス：必須入力区分] | Q5: 入力任意[入力制御メンテナンス：必須入力区分] | R5: 入力任意[入力制御メンテナンス：必須入力区分] | S5: 入力任意[入力制御メンテナンス：必須入力区分] | T5: 入力任意[入力制御メンテナンス：必須入力区分] | U5: 入力任意[入力制御メンテナンス：必須入力区分]
A6: #ヘッダー任意[ヘッダー要否] | B6: ヘッダー任意[ヘッダー要否] | C6: ヘッダー任意[ヘッダー要否] | D6: ヘッダー必須[ヘッダー要否] | E6: ヘッダー任意[ヘッダー要否] | F6: ヘッダー任意[ヘッダー要否] | G6: ヘッダー任意[ヘッダー要否] | H6: ヘッダー任意[ヘッダー要否] | I6: ヘッダー任意[ヘッダー要否] | J6: ヘッダー任意[ヘッダー要否] | K6: ヘッダー任意[ヘッダー要否] | L6: ヘッダー任意[ヘッダー要否] | M6: ヘッダー任意[ヘッダー要否] | N6: ヘッダー任意[ヘッダー要否] | O6: ヘッダー任意[ヘッダー要否] | P6: ヘッダー任意[ヘッダー要否] | Q6: ヘッダー任意[ヘッダー要否] | R6: ヘッダー任意[ヘッダー要否] | S6: ヘッダー任意[ヘッダー要否] | T6: ヘッダー任意[ヘッダー要否] | U6: ヘッダー任意[ヘッダー要否]
A7: #項目任意[項目データ要否] | B7: 項目任意[項目データ要否] | C7: 項目任意[項目データ要否] | D7: 項目必須[項目データ要否] | E7: 項目任意[項目データ要否] | F7: 項目任意[項目データ要否] | G7: 項目任意[項目データ要否] | H7: 項目任意[項目データ要否] | I7: 項目任意[項目データ要否] | J7: 項目任意[項目データ要否] | K7: 項目任意[項目データ要否] | L7: 項目任意[項目データ要否] | M7: 項目任意[項目データ要否] | N7: 項目任意[項目データ要否] | O7: 項目任意[項目データ要否] | P7: 項目任意[項目データ要否] | Q7: 項目任意[項目データ要否] | R7: 項目任意[項目データ要否] | S7: 項目任意[項目データ要否] | T7: 項目任意[項目データ要否] | U7: 項目任意[項目データ要否]
A8: #未使用[初期値使用区分] | B8: 未入力時使用[初期値使用区分] | C8: 未入力時使用[初期値使用区分] | D8: 未使用[初期値使用区分] | E8: 未使用[初期値使用区分] | F8: 未使用[初期値使用区分] | G8: 未使用[初期値使用区分] | H8: 未使用[初期値使用区分] | I8: 未使用[初期値使用区分] | J8: 未使用[初期値使用区分] | K8: 未使用[初期値使用区分] | L8: 未使用[初期値使用区分] | M8: 未使用[初期値使用区分] | N8: 未使用[初期値使用区分] | O8: 未使用[初期値使用区分] | P8: 未使用[初期値使用区分] | Q8: 未使用[初期値使用区分] | R8: 未使用[初期値使用区分] | S8: 未使用[初期値使用区分] | T8: 未使用[初期値使用区分] | U8: 未使用[初期値使用区分]
A9: #[初期値] | B9: 1[初期値] | C9: 2382/12/31[初期値] | D9: [初期値] | E9: [初期値] | F9: [初期値] | G9: [初期値] | H9: [初期値] | I9: [初期値] | J9: [初期値] | K9: [初期値] | L9: [初期値] | M9: [初期値] | N9: [初期値] | O9: [初期値] | P9: [初期値] | Q9: [初期値] | R9: [初期値] | S9: [初期値] | T9: [初期値] | U9: [初期値]
A10: #2[最大値] | B10: 1[最大値] | C10: 2382/12/31[最大値] | D10: [最大値] | E10: [最大値] | F10: 2382[最大値] | G10: 12[最大値] | H10: 2382[最大値] | I10: 12[最大値] | J10: [最大値] | K10: [最大値] | L10: [最大値] | M10: [最大値] | N10: [最大値] | O10: [最大値] | P10: [最大値] | Q10: [最大値] | R10: [最大値] | S10: [最大値] | T10: [最大値] | U10: [最大値]
A11: #0[最小値] | B11: 0[最小値] | C11: 1868/01/01[最小値] | D11: [最小値] | E11: [最小値] | F11: 1900[最小値] | G11: 1[最小値] | H11: 1900[最小値] | I11: 1[最小値] | J11: [最小値] | K11: [最小値] | L11: [最小値] | M11: [最小値] | N11: [最小値] | O11: [最小値] | P11: [最小値] | Q11: [最小値] | R11: [最小値] | S11: [最小値] | T11: [最小値] | U11: [最小値]
A12: #設定不可[クリア文字設定可否] | B12: 設定不可[クリア文字設定可否] | C12: 設定不可[クリア文字設定可否] | D12: 設定不可[クリア文字設定可否] | E12: 設定可[クリア文字設定可否] | F12: 設定可[クリア文字設定可否] | G12: 設定可[クリア文字設定可否] | H12: 設定可[クリア文字設定可否] | I12: 設定可[クリア文字設定可否] | J12: 設定可[クリア文字設定可否] | K12: 設定可[クリア文字設定可否] | L12: 設定可[クリア文字設定可否] | M12: 設定可[クリア文字設定可否] | N12: 設定可[クリア文字設定可否] | O12: 設定可[クリア文字設定可否] | P12: 設定可[クリア文字設定可否] | Q12: 設定可[クリア文字設定可否] | R12: 設定可[クリア文字設定可否] | S12: 設定可[クリア文字設定可否] | T12: 設定可[クリア文字設定可否] | U12: 設定可[クリア文字設定可否]

Sheet 職歴情報
A1: bfr_employ | B1: data_kjdate | C1: idou.sya_bg | D1: syokurk_mst.nyu_yy | E1: syokurk_mst.nyu_mm | F1: syokurk_mst.e_yy | G1: syokurk_mst.e_mm | H1: syokurk_mst.kai_nm | I1: syokurk_mst.daihyo | J1: syokurk_mst.sangyo_cd | K1: syokurk_mst.kancho_cd | L1: syokurk_mst.toki | M1: syokurk_mst.syokumukn_cd | N1: syokurk_mst.syonin_kb
A2: #雇用前区分 | B2: データ基準日 | C2: 職員番号 | D2: 前職始期（年） | E2: 前職始期（月） | F2: 前職終期（年） | G2: 前職終期（月） | H2: 前職勤務先名 | I2: 前職備考 | J2: 前職職務内容C | K2: 前職勤務形態C | L2: 資格年数 | M2: 経歴の種類C | N2: 免前歴フラグ
A3: #整数 | B3: 日付 | C3: 文字列 | D3: 整数 | E3: 整数 | F3: 整数 | G3: 整数 | H3: 文字列 | I3: 文字列 | J3: 文字列 | K3: 文字列 | L3: 文字列 | M3: 文字列 | N3: 区分
A4: #1[長さ] | B4: 25[長さ] | C4: 10[長さ] | D4: 5[長さ] | E4: 3[長さ] | F4: 5[長さ] | G4: 3[長さ] | H4: 100[長さ] | I4: 100[長さ] | J4: 10[長さ] | K4: 10[長さ] | L4: 30[長さ] | M4: 10[長さ] | N4: 5[長さ]
A5: #非対応(入力任意)[入力制御メンテナンス：必須入力区分] | B5: 非対応(入力任意)[入力制御メンテナンス：必須入力区分] | C5: 入力任意[入力制御メンテナンス：必須入力区分] | D5: 入力任意[入力制御メンテナンス：必須入力区分] | E5: 入力任意[入力制御メンテナンス：必須入力区分] | F5: 入力任意[入力制御メンテナンス：必須入力区分] | G5: 入力任意[入力制御メンテナンス：必須入力区分] | H5: 入力任意[入力制御メンテナンス：必須入力区分] | I5: 入力任意[入力制御メンテナンス：必須入力区分] | J5: 入力任意[入力制御メンテナンス：必須入力区分] | K5: 入力任意[入力制御メンテナンス：必須入力区分] | L5: 入力任意[入力制御メンテナンス：必須入力区分] | M5: 入力任意[入力制御メンテナンス：必須入力区分] | N5: 入力任意[入力制御メンテナンス：必須入力区分]
A6: #ヘッダー任意[ヘッダー要否] | B6: ヘッダー任意[ヘッダー要否] | C6: ヘッダー必須[ヘッダー要否] | D6: ヘッダー任意[ヘッダー要否] | E6: ヘッダー任意[ヘッダー要否] | F6: ヘッダー任意[ヘッダー要否] | G6: ヘッダー任意[ヘッダー要否] | H6: ヘッダー任意[ヘッダー要否] | I6: ヘッダー任意[ヘッダー要否] | J6: ヘッダー任意[ヘッダー要否] | K6: ヘッダー任意[ヘッダー要否] | L6: ヘッダー任意[ヘッダー要否] | M6: ヘッダー任意[ヘッダー要否] | N6: ヘッダー任意[ヘッダー要否]
A7: #項目任意[項目データ要否] | B7: 項目任意[項目データ要否] | C7: 項目必須[項目データ要否] | D7: 項目任意[項目データ要否] | E7: 項目任意[項目データ要否] | F7: 項目任意[項目データ要否] | G7: 項目任意[項目データ要否] | H7: 項目任意[項目データ要否] | I7: 項目任意[項目データ要否] | J7: 項目任意[項目データ要否] | K7: 項目任意[項目データ要否] | L7: 項目任意[項目データ要否] | M7: 項目任意[項目データ要否] | N7: 項目任意[項目データ要否]
A8: #未入力時使用[初期値使用区分] | B8: 未入力時使用[初期値使用区分] | C8: 未使用[初期値使用区分] | D8: 未使用[初期値使用区分] | E8: 未使用[初期値使用区分] | F8: 未使用[初期値使用区分] | G8: 未使用[初期値使用区分] | H8: 未使用[初期値使用区分] | I8: 未使用[初期値使用区分] | J8: 未使用[初期値使用区分] | K8: 未使用[初期値使用区分] | L8: 未使用[初期値使用区分] | M8: 未使用[初期値使用区分] | N8: 未使用[初期値使用区分]
A9: #1[初期値] | B9: 2382/12/31[初期値] | C9: [初期値] | D9: [初期値] | E9: [初期値] | F9: [初期値] | G9: [初期値] | H9: [初期値] | I9: [初期値] | J9: [初期値] | K9: [初期値] | L9: [初期値] | M9: [初期値] | N9: [初期値]
A10: #1[最大値] | B10: 2382/12/31[最大値] | C10: [最大値] | D10: 2382[最大値] | E10: 12[最大値] | F10: 2382[最大値] | G10: 12[最大値] | H10: [最大値] | I10: [最大値] | J10: [最大値] | K10: [最大値] | L10: [最大値] | M10: [最大値] | N10: [最大値]
A11: #0[最小値] | B11: 1868/01/01[最小値] | C11: [最小値] | D11: 1900[最小値] | E11: 1[最小値] | F11: 1900[最小値] | G11: 1[最小値] | H11: [最小値] | I11: [最小値] | J11: [最小値] | K11: [最小値] | L11: [最小値] | M11: [最小値] | N11: [最小値]
A12: #設定不可[クリア文字設定可否] | B12: 設定不可[クリア文字設定可否] | C12: 設定不可[クリア文字設定可否] | D12: 設定可[クリア文字設定可否] | E12: 設定可[クリア文字設定可否] | F12: 設定可[クリア文字設定可否] | G12: 設定可[クリア文字設定可否] | H12: 設定可[クリア文字設定可否] | I12: 設定可[クリア文字設定可否] | J12: 設定可[クリア文字設定可否] | K12: 設定可[クリア文字設定可否] | L12: 設定可[クリア文字設定可否] | M12: 設定可[クリア文字設定可否] | N12: 設定可[クリア文字設定可否]

Sheet 技能資格情報
A1: sys.mode | B1: bfr_employ | C1: data_kjdate | D1: idou.sya_bg | E1: gsikark.sik_cd | F1: gsikark.sytdate | G1: gsikark.sik_nm | H1: gsikark.gsiyob02
A2: #申請種別 | B2: 雇用前区分 | C2: データ基準日 | D2: 職員番号 | E2: 資格免許種類C | F2: 資格免許有効年月日 | G2: 資格免許種類名 | H2: 資格免許教科区分
A3: #整数 | B3: 整数 | C3: 日付 | D3: 文字列 | E3: 文字列 | F3: 日付 | G3: 文字列 | H3: 区分
A4: #1[長さ] | B4: 1[長さ] | C4: 25[長さ] | D4: 10[長さ] | E4: 10[長さ] | F4: 25[長さ] | G4: 80[長さ] | H4: 5[長さ]
A5: #非対応(入力任意)[入力制御メンテナンス：必須入力区分] | B5: 非対応(入力任意)[入力制御メンテナンス：必須入力区分] | C5: 非対応(入力任意)[入力制御メンテナンス：必須入力区分] | D5: 入力任意[入力制御メンテナンス：必須入力区分] | E5: 入力任意[入力制御メンテナンス：必須入力区分] | F5: 入力任意[入力制御メンテナンス：必須入力区分] | G5: 入力任意[入力制御メンテナンス：必須入力区分] | H5: 入力任意[入力制御メンテナンス：必須入力区分]
A6: #ヘッダー任意[ヘッダー要否] | B6: ヘッダー任意[ヘッダー要否] | C6: ヘッダー任意[ヘッダー要否] | D6: ヘッダー必須[ヘッダー要否] | E6: ヘッダー任意[ヘッダー要否] | F6: ヘッダー任意[ヘッダー要否] | G6: ヘッダー任意[ヘッダー要否] | H6: ヘッダー任意[ヘッダー要否]
A7: #項目任意[項目データ要否] | B7: 項目任意[項目データ要否] | C7: 項目任意[項目データ要否] | D7: 項目必須[項目データ要否] | E7: 項目任意[項目データ要否] | F7: 項目任意[項目データ要否] | G7: 項目任意[項目データ要否] | H7: 項目任意[項目データ要否]
A8: #未入力時使用[初期値使用区分] | B8: 未入力時使用[初期値使用区分] | C8: 未入力時使用[初期値使用区分] | D8: 未使用[初期値使用区分] | E8: 未使用[初期値使用区分] | F8: 未使用[初期値使用区分] | G8: 未使用[初期値使用区分] | H8: 未使用[初期値使用区分]
A9: #0[初期値] | B9: 1[初期値] | C9: 2382/12/31[初期値] | D9: [初期値] | E9: [初期値] | F9: [初期値] | G9: [初期値] | H9: [初期値]
A10: #2[最大値] | B10: 1[最大値] | C10: 2382/12/31[最大値] | D10: [最大値] | E10: [最大値] | F10: 2382/12/31[最大値] | G10: [最大値] | H10: [最大値]
A11: #0[最小値] | B11: 0[最小値] | C11: 1868/01/01[最小値] | D11: [最小値] | E11: [最小値] | F11: 1868/01/01[最小値] | G11: [最小値] | H11: [最小値]
A12: #設定不可[クリア文字設定可否] | B12: 設定不可[クリア文字設定可否] | C12: 設定不可[クリア文字設定可否] | D12: 設定不可[クリア文字設定可否] | E12: 設定可[クリア文字設定可否] | F12: 設定可[クリア文字設定可否] | G12: 設定可[クリア文字設定可否] | H12: 設定可[クリア文字設定可否]

Sheet リスト用
A1: 男性 | F1: 中学 | G1: 3 | H1: フルタイム | I1: 1 | K1: 46477 | M1: 学生 | N1: 1
A2: 女性 | F2: 高校２ | G2: 2 | H2: 38時間45分以上 | I2: 1 | M2: 在家庭 | N2: 0
F3: 高校３ | G3: 3 | H3: 29時間以上38時間45分未満 | I3: 0.75 | M3: 電気経験 | N3: 1
F4: 高校専攻科 | G4: 1 | H4: 休職等（３か月以上のもの） | I4: 0 | M4: 電気以外の職務経験 | N4: 0
F5: 短大１ | G5: 1 | H5: 29時間未満、在家庭、浪人等 | I5: 0 | M5: その他 | N5: 0
F6: 短大２ | G6: 2 | H6: 正規課程 | I6: 1
F7: 短大３ | G7: 3 | H7: 休学、留年等 | I7: 0
F8: 大学４ | G8: 4
F9: 大学専攻科 | G9: 1
F10: 大学６ | G10: 6
F11: 専門職学位課程 | G11: 3
F12: 修士課程 | G12: 2
F13: 博士課程 | G13: 3
