Workbook
Name 月報_中分類表抽出: 中分類指数!$A$2:$E$48

Sheet 消費者物価指数の概要 
A2: 川崎市の消費者物価指数の概要
A4: （総務省統計局公表結果に基づく 令和７（２０２５）年＝１００基準）
A6: ２０２５年３月分
A9: **********************************************************************************************
A10: 1 総合指数は９９．１
A11: 前年同月比は3.1％の上昇 前月比は0.3％の上昇
A12: 2 生鮮食品を除く総合指数は９８．９
A13: 前年同月比は2.7％の上昇 前月比は0.4％の上昇
A14: 3 生鮮食品及びエネルギーを除く総合指数は９９．０
A15: 前年同月比は2.5％の上昇 前月比は0.4％の上昇
A16: *********************************************************************************************
A18: 利用上の注意
... A27: 消費者物価指数 10大費目指数 （令和７（２０２５）年＝１００）
B29: 費 目 | C29: 総合 | D29: 食料 | E29: 住居 | F29: 光熱・ 水道 | G29: 家具・ 家事用品 | H29: 被服及び履物 | I29: 保健医療 | J29: 交通・ 通信 | K29: 教育 | L29: 教養娯楽 | M29: 諸雑費
B30: 指 数 | C30: =中分類指数!C6 -> 99.1 | D30: =中分類指数!C7 -> 98.8 | E30: =中分類指数!C20 -> 99.8 | F30: =中分類指数!C23 -> 97.9 | G30: =中分類指数!C28 -> 96.8 | H30: =中分類指数!C35 -> 99.9 | I30: =中分類指数!C41 -> 98.7 | J30: =中分類指数!C45 -> 98.9 | K30: =中分類指数!I6 -> 101 | L30: =中分類指数!I10 -> 98.8 | M30: =中分類指数!I15 -> 98.8
B31: 前月比 （％） | C31: =中分類指数!D6 -> 0.3 | D31: =中分類指数!D7 -> 0.1 | E31: =中分類指数!D20 -> 0.7 | F31: =中分類指数!D23 -> 0.4 | G31: =中分類指数!D28 -> -1.4 | H31: =中分類指数!D35 -> 1.1 | I31: =中分類指数!D41 -> -0.2 | J31: =中分類指数!D45 -> 0.3 | K31: =中分類指数!J6 -> 0 | L31: =中分類指数!J10 -> 0.9 | M31: =中分類指数!J15 -> -0.5
B32: 前年同月比 （％） | C32: =中分類指数!E6 -> 3.1 | D32: =中分類指数!E7 -> 6.4 | E32: =中分類指数!E20 -> 1.6 | F32: =中分類指数!E23 -> 5.1 | G32: =中分類指数!E28 -> 1.2 | H32: =中分類指数!E35 -> 1.9 | I32: =中分類指数!E41 -> 2.3 | J32: =中分類指数!E45 -> 1.6 | K32: =中分類指数!K6 -> 0.4 | L32: =中分類指数!K10 -> 1.6 | M32: =中分類指数!K15 -> 1

Sheet 中分類指数
A1: 中 分 類 指 数 | J1: =LEFT('消費者物価指数の概要 '!A6,LEN('消費者物価指数の概要 '!A6)-1) -> ２０２５年３月
A3: 川崎市
A5: 分 類 名 | C5: 指 数 | D5: 前月比 ％ | E5: 前年 同月比 ％ | G5: 分 類 名 | I5: 指 数 | J5: 前月比 ％ | K5: 前年 同月比 ％
A6: 総合 | C6: 99.1 | D6: 0.3 | E6: 3.1 | G6: 教育 | I6: 101 | J6: 0 | K6: 0.4
A7: 食料 | C7: 98.8 | D7: 0.1 | E7: 6.4 | H7: 授業料等 | I7: 101.7 | J7: 0 | K7: 0.1
B8: 穀類 | C8: 98.7 | D8: 3.8 | E8: 20.9 | H8: 教科書・学習参考教材 | I8: 99 | J8: 0 | K8: 1.6
B9: 魚介類 | C9: 100.8 | D9: 1.9 | E9: 5.3 | H9: 補習教育 | I9: 98.7 | J9: 0 | K9: 1
B10: 肉類 | C10: 98 | D10: -1 | E10: 4.4 | G10: 教養娯楽 | I10: 98.8 | J10: 0.9 | K10: 1.6
B11: 乳卵類 | C11: 98.1 | D11: -0.5 | E11: 0.9 | H11: 教養娯楽用耐久財 | I11: 101.1 | J11: -0.9 | K11: 0.9
B12: 野菜・海藻 | C12: 100.8 | D12: -3.4 | E12: 13.7 | H12: 教養娯楽用品 | I12: 98 | J12: 0.9 | K12: -1.6
B13: 果物 | C13: 101.7 | D13: -6.2 | E13: 5.6 | H13: 書籍・他の印刷物 | I13: 99.2 | J13: 0 | K13: 3.8
B14: 油脂･調味料 | C14: 97.9 | D14: 0 | E14: 0.7 | H14: 教養娯楽サービス | I14: 98.7 | J14: 1.2 | K14: 2.3
B15: 菓子類 | C15: 97 | D15: 0.5 | E15: 6.5 | G15: 諸雑費 | I15: 98.8 | J15: -0.5 | K15: 1
B16: 調理食品 | C16: 97.9 | D16: 0.7 | E16: 4.3 | H16: 理美容サービス | I16: 98.8 | J16: 0 | K16: 3.7
B17: 飲料 | C17: 98.4 | D17: 1.1 | E17: 3.7 | H17: 理美容用品 | I17: 98.3 | J17: 0.2 | K17: 1.1
B18: 酒類 | C18: 96.9 | D18: 0.2 | E18: 0.2 | H18: 身の回り用品 | I18: 98 | J18: -4.1 | K18: -1.4
B19: 外食 | C19: 99.3 | D19: 0.6 | E19: 5 | H19: たばこ | I19: 99.6 | J19: 0 | K19: 0.3
A20: 住居 | C20: 99.8 | D20: 0.7 | E20: 1.6 | H20: 他の諸雑費 | I20: 99.7 | J20: 0 | K20: 0.6
B21: 家賃 | C21: 100 | D21: 0.7 | E21: 1.6
B22: 設備修繕・維持 | C22: 97.6 | D22: 0.1 | E22: 2.5
A23: 光熱・水道 | C23: 97.9 | D23: 0.4 | E23: 5.1
B24: 電気代 | C24: 96.5 | D24: 0.5 | E24: 8.5
B25: ガス代 | C25: 98.7 | D25: 0.7 | E25: 3
B26: 他の光熱 | C26: 100.3 | D26: 0 | E26: 9.1
B27: 上下水道料 | C27: 100 | D27: 0 | E27: 0
A28: 家具・家事用品 | C28: 96.8 | D28: -1.4 | E28: 1.2
B29: 家庭用耐久財 | C29: 92.8 | D29: -4.8 | E29: -5.9
B30: 室内装備品 | C30: 98.3 | D30: 1 | E30: -2.9
B31: 寝具類 | C31: 99.1 | D31: 1.6 | E31: 7.5
B32: 家事雑貨 | C32: 99.9 | D32: 0.2 | E32: 9.8
B33: 家事用消耗品 | C33: 97.9 | D33: 0.1 | E33: 1.1
B34: 家事サービス | C34: 100 | D34: 0 | E34: 0.7
A35: 被服及び履物 | C35: 99.9 | D35: 1.1 | E35: 1.9
B36: 衣料 | C36: 101.6 | D36: 3.4 | E36: 4.6
B37: シャツ・セーター・下着類 | C37: 97.3 | D37: -1.8 | E37: -1.5
B38: 履物類 | C38: 101.5 | D38: 0.2 | E38: 0.8
B39: 他の被服 | C39: 100.7 | D39: 2.7 | E39: 1.9
B40: 被服関連サービス | C40: 97 | D40: 0 | E40: 1.5
A41: 保健医療 | C41: 98.7 | D41: -0.2 | E41: 2.3
B42: 医薬品・健康保持用摂取品 | C42: 93.6 | D42: -1.7 | E42: 3.6
...
