{"text_format":"1","workbook":"xlsx","n_sheets":3,"sheets":["使用方法","入居者情報入力シート","集計シート"],"not_rendered":{"charts":0,"images":6,"macros":1,"external_links":0,"defined_names":0,"comments":0,"pivot_tables":0},"unopened":[],"bounds":{"document_bytes":16777216,"sheet_cells":100000,"rows_first":2000,"rows_last":500,"rows_between":2000,"halvings":0,"cell_chars":16384,"cell_head_chars":4096},"cells_cut":0,"cells_raw":0,"read":"whole","date_system":"1900"}

{"sheet":"使用方法","index":0,"n_rows":85,"n_cols":3,"rows_kept":85,"cut":false,"hidden":false,"merged":[]}
[]
[null,"【入力補助シート】について"]
[null,null,"・10月1日時点の入居者情報の集計補助にご利用いただけます。このファイルは提出不要です。"]
[null,null,"・このシートを利用せずに集計し、報告書に直接入力していただいても構いません。"]
[null,null,"・集計結果に誤りがないか確認してください。特に入居済み戸数、全入居者数は必ず確認してください。"]
[null,null,"　"]
[]
[null,"【入力補助シート】の使用方法"]
[null,"①左下から「入居者情報入力シート」のシートを開き、登録戸数と入居者情報を入力します。"]
[]
[]
[]
[]
[]
[]
[]
[]
[]
[]
[]
[]
[]
[null,"②入力が完了したら、コピーボタンをクリックします"]
[]
[]
[]
[]
[]
[]
[]
[]
[]
[]
[]
[]
[]
[]
[]
[]
[null,"③定期報告書のエクセルを開き、該当の項目に貼り付けします。"]
[]
[null,"Ｐ３　　１　入居状況、２　入居者数等"]
[]
[]
[]
[]
[]
[]
[]
[]
[]
[]
[]
[]
[]
[]
[]
[]
[]
[]
[]
[]
[]
[]
[]
[]
[]
[]
[]
[]
[]
[]
[]
[]
[]
[]
[]
[]
[]
[]
[]
[]
[]
[]
[null,"Ｐ４　緊急通報の１日平均回数別の人数（過去１カ月）"]

{"sheet":"入居者情報入力シート","index":1,"n_rows":505,"n_cols":9,"rows_kept":505,"cut":false,"hidden":false,"merged":[]}
[null,null,null,"【入居者情報入力シート】"]
[null,null,null,null,null,null,"登録戸数",null,"戸"]
[]
[null,"部屋集計",null,"氏名","部屋番号","年齢","介護度","入居前所在地\n（市町村）","緊急通報の1日平均回数（過去1ヶ月）"]
[null,null,"(例)","Ａ",101,65,"要介護１","県内の異なる市町村","2回"]
["男性",{"$f":"COUNTIF(E$6:E6,E6)","v":0},1]
["女性",{"$f":"COUNTIF(E$6:E7,E7)","v":0},2]
[null,{"$f":"COUNTIF(E$6:E8,E8)","v":0},3]
["自立",{"$f":"COUNTIF(E$6:E9,E9)","v":0},4]
["要支援１",{"$f":"COUNTIF(E$6:E10,E10)","v":0},5]
["要支援２",{"$f":"COUNTIF(E$6:E11,E11)","v":0},6]
["要介護１",{"$f":"COUNTIF(E$6:E12,E12)","v":0},7]
["要介護２",{"$f":"COUNTIF(E$6:E13,E13)","v":0},8]
["要介護３",{"$f":"COUNTIF(E$6:E14,E14)","v":0},9]
["要介護４",{"$f":"COUNTIF(E$6:E15,E15)","v":0},10]
["要介護５",{"$f":"COUNTIF(E$6:E16,E16)","v":0},11]
[null,{"$f":"COUNTIF(E$6:E17,E17)","v":0},12]
[null,{"$f":"COUNTIF(E$6:E18,E18)","v":0},13]
["住宅と同じ市町村",{"$f":"COUNTIF(E$6:E19,E19)","v":0},14]
["県内の異なる市町村",{"$f":"COUNTIF(E$6:E20,E20)","v":0},15]
["神奈川県外",{"$f":"COUNTIF(E$6:E21,E21)","v":0},16]
[null,{"$f":"COUNTIF(E$6:E22,E22)","v":0},17]
[null,{"$f":"COUNTIF(E$6:E23,E23)","v":0},18]
["0回",{"$f":"COUNTIF(E$6:E24,E24)","v":0},19]
["1回",{"$f":"COUNTIF(E$6:E25,E25)","v":0},20]
["2回",{"$f":"COUNTIF(E$6:E26,E26)","v":0},21]
["3～5回",{"$f":"COUNTIF(E$6:E27,E27)","v":0},22]
["6回以上",{"$f":"COUNTIF(E$6:E28,E28)","v":0},23]
[null,{"$f":"COUNTIF(E$6:E29,E29)","v":0},24]
[null,{"$f":"COUNTIF(E$6:E30,E30)","v":0},25]
[null,{"$f":"COUNTIF(E$6:E31,E31)","v":0},26]
[null,{"$f":"COUNTIF(E$6:E32,E32)","v":0},27]
[null,{"$f":"COUNTIF(E$6:E33,E33)","v":0},28]
[null,{"$f":"COUNTIF(E$6:E34,E34)","v":0},29]
[null,{"$f":"COUNTIF(E$6:E35,E35)","v":0},30]
[null,{"$f":"COUNTIF(E$6:E36,E36)","v":0},31]
[null,{"$f":"COUNTIF(E$6:E37,E37)","v":0},32]
[null,{"$f":"COUNTIF(E$6:E38,E38)","v":0},33]
[null,{"$f":"COUNTIF(E$6:E39,E39)","v":0},34]
[null,{"$f":"COUNTIF(E$6:E40,E40)","v":0},35]
[null,{"$f":"COUNTIF(E$6:E41,E41)","v":0},36]
[null,{"$f":"COUNTIF(E$6:E42,E42)","v":0},37]
[null,{"$f":"COUNTIF(E$6:E43,E43)","v":0},38]
[null,{"$f":"COUNTIF(E$6:E44,E44)","v":0},39]
[null,{"$f":"COUNTIF(E$6:E45,E45)","v":0},40]
[null,{"$f":"COUNTIF(E$6:E46,E46)","v":0},41]
[null,{"$f":"COUNTIF(E$6:E47,E47)","v":0},42]
[null,{"$f":"COUNTIF(E$6:E48,E48)","v":0},43]
[null,{"$f":"COUNTIF(E$6:E49,E49)","v":0},44]
[null,{"$f":"COUNTIF(E$6:E50,E50)","v":0},45]
[null,{"$f":"COUNTIF(E$6:E51,E51)","v":0},46]
[null,{"$f":"COUNTIF(E$6:E52,E52)","v":0},47]
[null,{"$f":"COUNTIF(E$6:E53,E53)","v":0},48]
[null,{"$f":"COUNTIF(E$6:E54,E54)","v":0},49]
[null,{"$f":"COUNTIF(E$6:E55,E55)","v":0},50]
[null,{"$f":"COUNTIF(E$6:E56,E56)","v":0},51]
[null,{"$f":"COUNTIF(E$6:E57,E57)","v":0},52]
[null,{"$f":"COUNTIF(E$6:E58,E58)","v":0},53]
[null,{"$f":"COUNTIF(E$6:E59,E59)","v":0},54]
[null,{"$f":"COUNTIF(E$6:E60,E60)","v":0},55]
[null,{"$f":"COUNTIF(E$6:E61,E61)","v":0},56]
[null,{"$f":"COUNTIF(E$6:E62,E62)","v":0},57]
[null,{"$f":"COUNTIF(E$6:E63,E63)","v":0},58]
[null,{"$f":"COUNTIF(E$6:E64,E64)","v":0},59]
[null,{"$f":"COUNTIF(E$6:E65,E65)","v":0},60]
[null,{"$f":"COUNTIF(E$6:E66,E66)","v":0},61]
[null,{"$f":"COUNTIF(E$6:E67,E67)","v":0},62]
[null,{"$f":"COUNTIF(E$6:E68,E68)","v":0},63]
[null,{"$f":"COUNTIF(E$6:E69,E69)","v":0},64]
[null,{"$f":"COUNTIF(E$6:E70,E70)","v":0},65]
[null,{"$f":"COUNTIF(E$6:E71,E71)","v":0},66]
[null,{"$f":"COUNTIF(E$6:E72,E72)","v":0},67]
[null,{"$f":"COUNTIF(E$6:E73,E73)","v":0},68]
[null,{"$f":"COUNTIF(E$6:E74,E74)","v":0},69]
[null,{"$f":"COUNTIF(E$6:E75,E75)","v":0},70]
[null,{"$f":"COUNTIF(E$6:E76,E76)","v":0},71]
[null,{"$f":"COUNTIF(E$6:E77,E77)","v":0},72]
[null,{"$f":"COUNTIF(E$6:E78,E78)","v":0},73]
[null,{"$f":"COUNTIF(E$6:E79,E79)","v":0},74]
[null,{"$f":"COUNTIF(E$6:E80,E80)","v":0},75]
[null,{"$f":"COUNTIF(E$6:E81,E81)","v":0},76]
[null,{"$f":"COUNTIF(E$6:E82,E82)","v":0},77]
[null,{"$f":"COUNTIF(E$6:E83,E83)","v":0},78]
[null,{"$f":"COUNTIF(E$6:E84,E84)","v":0},79]
[null,{"$f":"COUNTIF(E$6:E85,E85)","v":0},80]
[null,{"$f":"COUNTIF(E$6:E86,E86)","v":0},81]
[null,{"$f":"COUNTIF(E$6:E87,E87)","v":0},82]
[null,{"$f":"COUNTIF(E$6:E88,E88)","v":0},83]
[null,{"$f":"COUNTIF(E$6:E89,E89)","v":0},84]
[null,{"$f":"COUNTIF(E$6:E90,E90)","v":0},85]
[null,{"$f":"COUNTIF(E$6:E91,E91)","v":0},86]
[null,{"$f":"COUNTIF(E$6:E92,E92)","v":0},87]
[null,{"$f":"COUNTIF(E$6:E93,E93)","v":0},88]
[null,{"$f":"COUNTIF(E$6:E94,E94)","v":0},89]
[null,{"$f":"COUNTIF(E$6:E95,E95)","v":0},90]
[null,{"$f":"COUNTIF(E$6:E96,E96)","v":0},91]
[null,{"$f":"COUNTIF(E$6:E97,E97)","v":0},92]
[null,{"$f":"COUNTIF(E$6:E98,E98)","v":0},93]
[null,{"$f":"COUNTIF(E$6:E99,E99)","v":0},94]
[null,{"$f":"COUNTIF(E$6:E100,E100)","v":0},95]
[null,{"$f":"COUNTIF(E$6:E101,E101)","v":0},96]
[null,{"$f":"COUNTIF(E$6:E102,E102)","v":0},97]
[null,{"$f":"COUNTIF(E$6:E103,E103)","v":0},98]
[null,{"$f":"COUNTIF(E$6:E104,E104)","v":0},99]
[null,{"$f":"COUNTIF(E$6:E105,E105)","v":0},100]
[null,{"$f":"COUNTIF(E$6:E106,E106)","v":0},101]
[null,{"$f":"COUNTIF(E$6:E107,E107)","v":0},102]
[null,{"$f":"COUNTIF(E$6:E108,E108)","v":0},103]
[null,{"$f":"COUNTIF(E$6:E109,E109)","v":0},104]
[null,{"$f":"COUNTIF(E$6:E110,E110)","v":0},105]
[null,{"$f":"COUNTIF(E$6:E111,E111)","v":0},106]
[null,{"$f":"COUNTIF(E$6:E112,E112)","v":0},107]
[null,{"$f":"COUNTIF(E$6:E113,E113)","v":0},108]
[null,{"$f":"COUNTIF(E$6:E114,E114)","v":0},109]
[null,{"$f":"COUNTIF(E$6:E115,E115)","v":0},110]
[null,{"$f":"COUNTIF(E$6:E116,E116)","v":0},111]
[null,{"$f":"COUNTIF(E$6:E117,E117)","v":0},112]
[null,{"$f":"COUNTIF(E$6:E118,E118)","v":0},113]
[null,{"$f":"COUNTIF(E$6:E119,E119)","v":0},114]
[null,{"$f":"COUNTIF(E$6:E120,E120)","v":0},115]
[null,{"$f":"COUNTIF(E$6:E121,E121)","v":0},116]
[null,{"$f":"COUNTIF(E$6:E122,E122)","v":0},117]
[null,{"$f":"COUNTIF(E$6:E123,E123)","v":0},118]
[null,{"$f":"COUNTIF(E$6:E124,E124)","v":0},119]
[null,{"$f":"COUNTIF(E$6:E125,E125)","v":0},120]
[null,{"$f":"COUNTIF(E$6:E126,E126)","v":0},121]
[null,{"$f":"COUNTIF(E$6:E127,E127)","v":0},122]
[null,{"$f":"COUNTIF(E$6:E128,E128)","v":0},123]
[null,{"$f":"COUNTIF(E$6:E129,E129)","v":0},124]
[null,{"$f":"COUNTIF(E$6:E130,E130)","v":0},125]
[null,{"$f":"COUNTIF(E$6:E131,E131)","v":0},126]
[null,{"$f":"COUNTIF(E$6:E132,E132)","v":0},127]
[null,{"$f":"COUNTIF(E$6:E133,E133)","v":0},128]
[null,{"$f":"COUNTIF(E$6:E134,E134)","v":0},129]
[null,{"$f":"COUNTIF(E$6:E135,E135)","v":0},130]
[null,{"$f":"COUNTIF(E$6:E136,E136)","v":0},131]
[null,{"$f":"COUNTIF(E$6:E137,E137)","v":0},132]
[null,{"$f":"COUNTIF(E$6:E138,E138)","v":0},133]
[null,{"$f":"COUNTIF(E$6:E139,E139)","v":0},134]
[null,{"$f":"COUNTIF(E$6:E140,E140)","v":0},135]
[null,{"$f":"COUNTIF(E$6:E141,E141)","v":0},136]
[null,{"$f":"COUNTIF(E$6:E142,E142)","v":0},137]
[null,{"$f":"COUNTIF(E$6:E143,E143)","v":0},138]
[null,{"$f":"COUNTIF(E$6:E144,E144)","v":0},139]
[null,{"$f":"COUNTIF(E$6:E145,E145)","v":0},140]
[null,{"$f":"COUNTIF(E$6:E146,E146)","v":0},141]
[null,{"$f":"COUNTIF(E$6:E147,E147)","v":0},142]
[null,{"$f":"COUNTIF(E$6:E148,E148)","v":0},143]
[null,{"$f":"COUNTIF(E$6:E149,E149)","v":0},144]
[null,{"$f":"COUNTIF(E$6:E150,E150)","v":0},145]
[null,{"$f":"COUNTIF(E$6:E151,E151)","v":0},146]
[null,{"$f":"COUNTIF(E$6:E152,E152)","v":0},147]
[null,{"$f":"COUNTIF(E$6:E153,E153)","v":0},148]
[null,{"$f":"COUNTIF(E$6:E154,E154)","v":0},149]
[null,{"$f":"COUNTIF(E$6:E155,E155)","v":0},150]
[null,{"$f":"COUNTIF(E$6:E156,E156)","v":0},151]
[null,{"$f":"COUNTIF(E$6:E157,E157)","v":0},152]
[null,{"$f":"COUNTIF(E$6:E158,E158)","v":0},153]
[null,{"$f":"COUNTIF(E$6:E159,E159)","v":0},154]
[null,{"$f":"COUNTIF(E$6:E160,E160)","v":0},155]
[null,{"$f":"COUNTIF(E$6:E161,E161)","v":0},156]
[null,{"$f":"COUNTIF(E$6:E162,E162)","v":0},157]
[null,{"$f":"COUNTIF(E$6:E163,E163)","v":0},158]
[null,{"$f":"COUNTIF(E$6:E164,E164)","v":0},159]
[null,{"$f":"COUNTIF(E$6:E165,E165)","v":0},160]
[null,{"$f":"COUNTIF(E$6:E166,E166)","v":0},161]
[null,{"$f":"COUNTIF(E$6:E167,E167)","v":0},162]
[null,{"$f":"COUNTIF(E$6:E168,E168)","v":0},163]
[null,{"$f":"COUNTIF(E$6:E169,E169)","v":0},164]
[null,{"$f":"COUNTIF(E$6:E170,E170)","v":0},165]
[null,{"$f":"COUNTIF(E$6:E171,E171)","v":0},166]
[null,{"$f":"COUNTIF(E$6:E172,E172)","v":0},167]
[null,{"$f":"COUNTIF(E$6:E173,E173)","v":0},168]
[null,{"$f":"COUNTIF(E$6:E174,E174)","v":0},169]
[null,{"$f":"COUNTIF(E$6:E175,E175)","v":0},170]
[null,{"$f":"COUNTIF(E$6:E176,E176)","v":0},171]
[null,{"$f":"COUNTIF(E$6:E177,E177)","v":0},172]
[null,{"$f":"COUNTIF(E$6:E178,E178)","v":0},173]
[null,{"$f":"COUNTIF(E$6:E179,E179)","v":0},174]
[null,{"$f":"COUNTIF(E$6:E180,E180)","v":0},175]
[null,{"$f":"COUNTIF(E$6:E181,E181)","v":0},176]
[null,{"$f":"COUNTIF(E$6:E182,E182)","v":0},177]
[null,{"$f":"COUNTIF(E$6:E183,E183)","v":0},178]
[null,{"$f":"COUNTIF(E$6:E184,E184)","v":0},179]
[null,{"$f":"COUNTIF(E$6:E185,E185)","v":0},180]
[null,{"$f":"COUNTIF(E$6:E186,E186)","v":0},181]
[null,{"$f":"COUNTIF(E$6:E187,E187)","v":0},182]
[null,{"$f":"COUNTIF(E$6:E188,E188)","v":0},183]
[null,{"$f":"COUNTIF(E$6:E189,E189)","v":0},184]
[null,{"$f":"COUNTIF(E$6:E190,E190)","v":0},185]
[null,{"$f":"COUNTIF(E$6:E191,E191)","v":0},186]
[null,{"$f":"COUNTIF(E$6:E192,E192)","v":0},187]
[null,{"$f":"COUNTIF(E$6:E193,E193)","v":0},188]
[null,{"$f":"COUNTIF(E$6:E194,E194)","v":0},189]
[null,{"$f":"COUNTIF(E$6:E195,E195)","v":0},190]
[null,{"$f":"COUNTIF(E$6:E196,E196)","v":0},191]
[null,{"$f":"COUNTIF(E$6:E197,E197)","v":0},192]
[null,{"$f":"COUNTIF(E$6:E198,E198)","v":0},193]
[null,{"$f":"COUNTIF(E$6:E199,E199)","v":0},194]
[null,{"$f":"COUNTIF(E$6:E200,E200)","v":0},195]
[null,{"$f":"COUNTIF(E$6:E201,E201)","v":0},196]
[null,{"$f":"COUNTIF(E$6:E202,E202)","v":0},197]
[null,{"$f":"COUNTIF(E$6:E203,E203)","v":0},198]
[null,{"$f":"COUNTIF(E$6:E204,E204)","v":0},199]
[null,{"$f":"COUNTIF(E$6:E205,E205)","v":0},200]
[null,null,201]
[null,null,202]
[null,null,203]
[null,null,204]
[null,null,205]
[null,null,206]
[null,null,207]
[null,null,208]
[null,null,209]
[null,null,210]
[null,null,211]
[null,null,212]
[null,null,213]
[null,null,214]
[null,null,215]
[null,null,216]
[null,null,217]
[null,null,218]
[null,null,219]
[null,null,220]
[null,null,221]
[null,null,222]
[null,null,223]
[null,null,224]
[null,null,225]
[null,null,226]
[null,null,227]
[null,null,228]
[null,null,229]
[null,null,230]
[null,null,231]
[null,null,232]
[null,null,233]
[null,null,234]
[null,null,235]
[null,null,236]
[null,null,237]
[null,null,238]
[null,null,239]
[null,null,240]
[null,null,241]
[null,null,242]
[null,null,243]
[null,null,244]
[null,null,245]
[null,null,246]
[null,null,247]
[null,null,248]
[null,null,249]
[null,null,250]
[null,null,251]
[null,null,252]
[null,null,253]
[null,null,254]
[null,null,255]
[null,null,256]
[null,null,257]
[null,null,258]
[null,null,259]
[null,null,260]
[null,null,261]
[null,null,262]
[null,null,263]
[null,null,264]
[null,null,265]
[null,null,266]
[null,null,267]
[null,null,268]
[null,null,269]
[null,null,270]
[null,null,271]
[null,null,272]
[null,null,273]
[null,null,274]
[null,null,275]
[null,null,276]
[null,null,277]
[null,null,278]
[null,null,279]
[null,null,280]
[null,null,281]
[null,null,282]
[null,null,283]
[null,null,284]
[null,null,285]
[null,null,286]
[null,null,287]
[null,null,288]
[null,null,289]
[null,null,290]
[null,null,291]
[null,null,292]
[null,null,293]
[null,null,294]
[null,null,295]
[null,null,296]
[null,null,297]
[null,null,298]
[null,null,299]
[null,null,300]
[null,{"$f":"COUNTIF(E$6:E306,E306)","v":0},301]
[null,{"$f":"COUNTIF(E$6:E307,E307)","v":0},302]
[null,{"$f":"COUNTIF(E$6:E308,E308)","v":0},303]
[null,{"$f":"COUNTIF(E$6:E309,E309)","v":0},304]
[null,{"$f":"COUNTIF(E$6:E310,E310)","v":0},305]
[null,{"$f":"COUNTIF(E$6:E311,E311)","v":0},306]
[null,{"$f":"COUNTIF(E$6:E312,E312)","v":0},307]
[null,{"$f":"COUNTIF(E$6:E313,E313)","v":0},308]
[null,{"$f":"COUNTIF(E$6:E314,E314)","v":0},309]
[null,{"$f":"COUNTIF(E$6:E315,E315)","v":0},310]
[null,{"$f":"COUNTIF(E$6:E316,E316)","v":0},311]
[null,{"$f":"COUNTIF(E$6:E317,E317)","v":0},312]
[null,{"$f":"COUNTIF(E$6:E318,E318)","v":0},313]
[null,{"$f":"COUNTIF(E$6:E319,E319)","v":0},314]
[null,{"$f":"COUNTIF(E$6:E320,E320)","v":0},315]
[null,{"$f":"COUNTIF(E$6:E321,E321)","v":0},316]
[null,{"$f":"COUNTIF(E$6:E322,E322)","v":0},317]
[null,{"$f":"COUNTIF(E$6:E323,E323)","v":0},318]
[null,{"$f":"COUNTIF(E$6:E324,E324)","v":0},319]
[null,{"$f":"COUNTIF(E$6:E325,E325)","v":0},320]
[null,{"$f":"COUNTIF(E$6:E326,E326)","v":0},321]
[null,{"$f":"COUNTIF(E$6:E327,E327)","v":0},322]
[null,{"$f":"COUNTIF(E$6:E328,E328)","v":0},323]
[null,{"$f":"COUNTIF(E$6:E329,E329)","v":0},324]
[null,{"$f":"COUNTIF(E$6:E330,E330)","v":0},325]
[null,{"$f":"COUNTIF(E$6:E331,E331)","v":0},326]
[null,{"$f":"COUNTIF(E$6:E332,E332)","v":0},327]
[null,{"$f":"COUNTIF(E$6:E333,E333)","v":0},328]
[null,{"$f":"COUNTIF(E$6:E334,E334)","v":0},329]
[null,{"$f":"COUNTIF(E$6:E335,E335)","v":0},330]
[null,{"$f":"COUNTIF(E$6:E336,E336)","v":0},331]
[null,{"$f":"COUNTIF(E$6:E337,E337)","v":0},332]
[null,{"$f":"COUNTIF(E$6:E338,E338)","v":0},333]
[null,{"$f":"COUNTIF(E$6:E339,E339)","v":0},334]
[null,{"$f":"COUNTIF(E$6:E340,E340)","v":0},335]
[null,{"$f":"COUNTIF(E$6:E341,E341)","v":0},336]
[null,{"$f":"COUNTIF(E$6:E342,E342)","v":0},337]
[null,{"$f":"COUNTIF(E$6:E343,E343)","v":0},338]
[null,{"$f":"COUNTIF(E$6:E344,E344)","v":0},339]
[null,{"$f":"COUNTIF(E$6:E345,E345)","v":0},340]
[null,{"$f":"COUNTIF(E$6:E346,E346)","v":0},341]
[null,{"$f":"COUNTIF(E$6:E347,E347)","v":0},342]
[null,{"$f":"COUNTIF(E$6:E348,E348)","v":0},343]
[null,{"$f":"COUNTIF(E$6:E349,E349)","v":0},344]
[null,{"$f":"COUNTIF(E$6:E350,E350)","v":0},345]
[null,{"$f":"COUNTIF(E$6:E351,E351)","v":0},346]
[null,{"$f":"COUNTIF(E$6:E352,E352)","v":0},347]
[null,{"$f":"COUNTIF(E$6:E353,E353)","v":0},348]
[null,{"$f":"COUNTIF(E$6:E354,E354)","v":0},349]
[null,{"$f":"COUNTIF(E$6:E355,E355)","v":0},350]
[null,null,351]
[null,null,352]
[null,null,353]
[null,null,354]
[null,null,355]
[null,null,356]
[null,null,357]
[null,null,358]
[null,null,359]
[null,null,360]
[null,null,361]
[null,null,362]
[null,null,363]
[null,null,364]
[null,null,365]
[null,null,366]
[null,null,367]
[null,null,368]
[null,null,369]
[null,null,370]
[null,null,371]
[null,null,372]
[null,null,373]
[null,null,374]
[null,null,375]
[null,null,376]
[null,null,377]
[null,null,378]
[null,null,379]
[null,null,380]
[null,null,381]
[null,null,382]
[null,null,383]
[null,null,384]
[null,null,385]
[null,null,386]
[null,null,387]
[null,null,388]
[null,null,389]
[null,null,390]
[null,null,391]
[null,null,392]
[null,null,393]
[null,null,394]
[null,null,395]
[null,null,396]
[null,null,397]
[null,null,398]
[null,null,399]
[null,null,400]
[null,{"$f":"COUNTIF(E$6:E406,E406)","v":0},401]
[null,{"$f":"COUNTIF(E$6:E407,E407)","v":0},402]
[null,{"$f":"COUNTIF(E$6:E408,E408)","v":0},403]
[null,{"$f":"COUNTIF(E$6:E409,E409)","v":0},404]
[null,{"$f":"COUNTIF(E$6:E410,E410)","v":0},405]
[null,{"$f":"COUNTIF(E$6:E411,E411)","v":0},406]
[null,{"$f":"COUNTIF(E$6:E412,E412)","v":0},407]
[null,{"$f":"COUNTIF(E$6:E413,E413)","v":0},408]
[null,{"$f":"COUNTIF(E$6:E414,E414)","v":0},409]
[null,{"$f":"COUNTIF(E$6:E415,E415)","v":0},410]
[null,{"$f":"COUNTIF(E$6:E416,E416)","v":0},411]
[null,{"$f":"COUNTIF(E$6:E417,E417)","v":0},412]
[null,{"$f":"COUNTIF(E$6:E418,E418)","v":0},413]
[null,{"$f":"COUNTIF(E$6:E419,E419)","v":0},414]
[null,{"$f":"COUNTIF(E$6:E420,E420)","v":0},415]
[null,{"$f":"COUNTIF(E$6:E421,E421)","v":0},416]
[null,{"$f":"COUNTIF(E$6:E422,E422)","v":0},417]
[null,{"$f":"COUNTIF(E$6:E423,E423)","v":0},418]
[null,{"$f":"COUNTIF(E$6:E424,E424)","v":0},419]
[null,{"$f":"COUNTIF(E$6:E425,E425)","v":0},420]
[null,{"$f":"COUNTIF(E$6:E426,E426)","v":0},421]
[null,{"$f":"COUNTIF(E$6:E427,E427)","v":0},422]
[null,{"$f":"COUNTIF(E$6:E428,E428)","v":0},423]
[null,{"$f":"COUNTIF(E$6:E429,E429)","v":0},424]
[null,{"$f":"COUNTIF(E$6:E430,E430)","v":0},425]
[null,{"$f":"COUNTIF(E$6:E431,E431)","v":0},426]
[null,{"$f":"COUNTIF(E$6:E432,E432)","v":0},427]
[null,{"$f":"COUNTIF(E$6:E433,E433)","v":0},428]
[null,{"$f":"COUNTIF(E$6:E434,E434)","v":0},429]
[null,{"$f":"COUNTIF(E$6:E435,E435)","v":0},430]
[null,{"$f":"COUNTIF(E$6:E436,E436)","v":0},431]
[null,{"$f":"COUNTIF(E$6:E437,E437)","v":0},432]
[null,{"$f":"COUNTIF(E$6:E438,E438)","v":0},433]
[null,{"$f":"COUNTIF(E$6:E439,E439)","v":0},434]
[null,{"$f":"COUNTIF(E$6:E440,E440)","v":0},435]
[null,{"$f":"COUNTIF(E$6:E441,E441)","v":0},436]
[null,{"$f":"COUNTIF(E$6:E442,E442)","v":0},437]
[null,{"$f":"COUNTIF(E$6:E443,E443)","v":0},438]
[null,{"$f":"COUNTIF(E$6:E444,E444)","v":0},439]
[null,{"$f":"COUNTIF(E$6:E445,E445)","v":0},440]
[null,{"$f":"COUNTIF(E$6:E446,E446)","v":0},441]
[null,{"$f":"COUNTIF(E$6:E447,E447)","v":0},442]
[null,{"$f":"COUNTIF(E$6:E448,E448)","v":0},443]
[null,{"$f":"COUNTIF(E$6:E449,E449)","v":0},444]
[null,{"$f":"COUNTIF(E$6:E450,E450)","v":0},445]
[null,{"$f":"COUNTIF(E$6:E451,E451)","v":0},446]
[null,{"$f":"COUNTIF(E$6:E452,E452)","v":0},447]
[null,{"$f":"COUNTIF(E$6:E453,E453)","v":0},448]
[null,{"$f":"COUNTIF(E$6:E454,E454)","v":0},449]
[null,{"$f":"COUNTIF(E$6:E455,E455)","v":0},450]
[null,{"$f":"COUNTIF(E$6:E456,E456)","v":0},451]
[null,{"$f":"COUNTIF(E$6:E457,E457)","v":0},452]
[null,{"$f":"COUNTIF(E$6:E458,E458)","v":0},453]
[null,{"$f":"COUNTIF(E$6:E459,E459)","v":0},454]
[null,{"$f":"COUNTIF(E$6:E460,E460)","v":0},455]
[null,{"$f":"COUNTIF(E$6:E461,E461)","v":0},456]
[null,{"$f":"COUNTIF(E$6:E462,E462)","v":0},457]
[null,{"$f":"COUNTIF(E$6:E463,E463)","v":0},458]
[null,{"$f":"COUNTIF(E$6:E464,E464)","v":0},459]
[null,{"$f":"COUNTIF(E$6:E465,E465)","v":0},460]
[null,{"$f":"COUNTIF(E$6:E466,E466)","v":0},461]
[null,{"$f":"COUNTIF(E$6:E467,E467)","v":0},462]
[null,{"$f":"COUNTIF(E$6:E468,E468)","v":0},463]
[null,{"$f":"COUNTIF(E$6:E469,E469)","v":0},464]
[null,{"$f":"COUNTIF(E$6:E470,E470)","v":0},465]
[null,{"$f":"COUNTIF(E$6:E471,E471)","v":0},466]
[null,{"$f":"COUNTIF(E$6:E472,E472)","v":0},467]
[null,{"$f":"COUNTIF(E$6:E473,E473)","v":0},468]
[null,{"$f":"COUNTIF(E$6:E474,E474)","v":0},469]
[null,{"$f":"COUNTIF(E$6:E475,E475)","v":0},470]
[null,{"$f":"COUNTIF(E$6:E476,E476)","v":0},471]
[null,{"$f":"COUNTIF(E$6:E477,E477)","v":0},472]
[null,{"$f":"COUNTIF(E$6:E478,E478)","v":0},473]
[null,{"$f":"COUNTIF(E$6:E479,E479)","v":0},474]
[null,{"$f":"COUNTIF(E$6:E480,E480)","v":0},475]
[null,{"$f":"COUNTIF(E$6:E481,E481)","v":0},476]
[null,{"$f":"COUNTIF(E$6:E482,E482)","v":0},477]
[null,{"$f":"COUNTIF(E$6:E483,E483)","v":0},478]
[null,{"$f":"COUNTIF(E$6:E484,E484)","v":0},479]
[null,{"$f":"COUNTIF(E$6:E485,E485)","v":0},480]
[null,{"$f":"COUNTIF(E$6:E486,E486)","v":0},481]
[null,{"$f":"COUNTIF(E$6:E487,E487)","v":0},482]
[null,{"$f":"COUNTIF(E$6:E488,E488)","v":0},483]
[null,{"$f":"COUNTIF(E$6:E489,E489)","v":0},484]
[null,{"$f":"COUNTIF(E$6:E490,E490)","v":0},485]
[null,{"$f":"COUNTIF(E$6:E491,E491)","v":0},486]
[null,{"$f":"COUNTIF(E$6:E492,E492)","v":0},487]
[null,{"$f":"COUNTIF(E$6:E493,E493)","v":0},488]
[null,{"$f":"COUNTIF(E$6:E494,E494)","v":0},489]
[null,{"$f":"COUNTIF(E$6:E495,E495)","v":0},490]
[null,{"$f":"COUNTIF(E$6:E496,E496)","v":0},491]
[null,{"$f":"COUNTIF(E$6:E497,E497)","v":0},492]
[null,{"$f":"COUNTIF(E$6:E498,E498)","v":0},493]
[null,{"$f":"COUNTIF(E$6:E499,E499)","v":0},494]
[null,{"$f":"COUNTIF(E$6:E500,E500)","v":0},495]
[null,{"$f":"COUNTIF(E$6:E501,E501)","v":0},496]
[null,{"$f":"COUNTIF(E$6:E502,E502)","v":0},497]
[null,{"$f":"COUNTIF(E$6:E503,E503)","v":0},498]
[null,{"$f":"COUNTIF(E$6:E504,E504)","v":0},499]
[null,{"$f":"COUNTIF(E$6:E505,E505)","v":0},500]

{"sheet":"集計シート","index":2,"n_rows":23,"n_cols":46,"rows_kept":23,"cut":false,"hidden":false,"merged":[[2,1,2,4],[2,5,2,13],[3,1,3,13],[4,2,5,3],[4,4,5,5],[4,6,4,8],[5,7,5,8],[13,2,13,3],[13,8,13,9],[13,10,13,11],[13,12,13,13],[6,2,6,3],[6,4,6,5],[6,7,6,8],[8,1,8,13],[9,2,9,3],[9,4,9,5],[11,2,11,4],[12,2,12,3],[12,8,12,9],[12,10,12,11],[12,12,12,13],[15,2,15,4],[16,2,17,3],[16,4,16,5],[16,6,16,13],[17,8,17,9],[17,10,17,11],[17,12,17,13],[18,2,18,3],[18,8,18,9],[18,10,18,11],[18,12,18,13],[20,2,20,4],[21,2,21,3],[21,4,21,5],[21,6,21,7],[22,2,22,3],[22,4,22,5],[22,6,22,7],[4,43,4,44],[3,17,3,30],[3,31,3,33],[3,34,3,36],[3,37,3,39],[3,40,3,42],[3,43,3,45],[4,17,4,30],[4,31,4,32],[4,34,4,35],[4,37,4,38],[4,40,4,41]]}
[]
[]
[null,"Ⅱ　管理状況等報告について",null,null,null,"以下の内容について、令和４年10月1日現在の状況を記入してください。（黄色セル部分）"]
[null,"　１　入居状況",null,null,null,null,null,null,null,null,null,null,null,null,null,null,null,"(2)　緊急通報の1日平均回数別の人数",null,null,null,null,null,null,null,null,null,null,null,null,null,"0回",null,null,"1回",null,null,"2回",null,null,"3～5回",null,null,"6回～"]
[null,null,"登録住戸数(戸)",null,"うち入居済み住戸数(戸)",null,"【入居済み住戸の内訳】",null,null,null,null,null,null,null,null,null,null,"　　　（過去1ヶ月）",null,null,null,null,null,null,null,null,null,null,null,null,null,{"$f":"COUNTIF(入居者情報入力シート!I6:I505,\"0回\")","v":0},null,"人",{"$f":"COUNTIF(入居者情報入力シート!I6:I505,\"1回\")","v":0},null,"人",{"$f":"COUNTIF(入居者情報入力シート!I6:I505,\"2回\")","v":0},null,"人",{"$f":"COUNTIF(入居者情報入力シート!I6:I505,\"3～5回\")","v":0},null,"人",{"$f":"COUNTIF(入居者情報入力シート!I6:I505,\"6回以上\")","v":0},null,"人"]
[null,null,null,null,null,null,"単身入居(戸)","同居者あり(戸)"]
[null,null,{"$f":"入居者情報入力シート!H2","v":0},null,{"$f":"COUNTIF(入居者情報入力シート!B6:B505,1)","v":0},null,{"$f":"E7-H7","v":0},{"$f":"COUNTIF(入居者情報入力シート!B6:B505,2)","v":0}]
[]
[null,"　２　入居者数等"]
[null,null,"全入居者数(人)",null,{"$f":"COUNTA(入居者情報入力シート!F6:F505)","v":0}]
[]
[null,null,"【年齢別内訳(人)】"]
[null,null,"60歳未満",null,"60歳以上\n65歳未満","65歳以上\n70歳未満","70歳以上\n75歳未満","75歳以上\n80歳未満","80歳以上\n85歳未満",null,"85歳以上\n90歳未満",null,"90歳以上"]
[null,null,{"$f":"COUNTIF(入居者情報入力シート!F6:F505,\"<60\")","v":0},null,{"$f":"COUNTIF(入居者情報入力シート!F6:F505,\"<65\")-COUNTIF(入居者情報入力シート!F6:F505,\"<60\")","v":0},{"$f":"COUNTIF(入居者情報入力シート!F6:F505,\"<70\")-COUNTIF(入居者情報入力シート!F6:F505,\"<65\")","v":0},{"$f":"COUNTIF(入居者情報入力シート!F6:F505,\"<75\")-COUNTIF(入居者情報入力シート!F6:F505,\"<70\")","v":0},{"$f":"COUNTIF(入居者情報入力シート!F6:F505,\"<80\")-COUNTIF(入居者情報入力シート!F6:F505,\"<75\")","v":0},{"$f":"COUNTIF(入居者情報入力シート!F6:F505,\"<85\")-COUNTIF(入居者情報入力シート!F6:F505,\"<80\")","v":0},null,{"$f":"COUNTIF(入居者情報入力シート!F6:F505,\"<90\")-COUNTIF(入居者情報入力シート!F6:F505,\"<85\")","v":0},null,{"$f":"COUNTIF(入居者情報入力シート!F6:F505,\">=90\")","v":0}]
[]
[null,null,"【要介護度内訳(人)】"]
[null,null,"自立",null,"要支援",null,"要介護"]
[null,null,null,null,1,2,1,2,3,null,4,null,5]
[null,null,{"$f":"COUNTIF(入居者情報入力シート!G6:G505,\"自立\")","v":0},null,{"$f":"COUNTIF(入居者情報入力シート!G6:G505,\"要支援１\")","v":0},{"$f":"COUNTIF(入居者情報入力シート!G6:G505,\"要支援２\")","v":0},{"$f":"COUNTIF(入居者情報入力シート!G6:G505,\"要介護１\")","v":0},{"$f":"COUNTIF(入居者情報入力シート!G6:G505,\"要介護２\")","v":0},{"$f":"COUNTIF(入居者情報入力シート!G6:G505,\"要介護３\")","v":0},null,{"$f":"COUNTIF(入居者情報入力シート!G6:G505,\"要介護４\")","v":0},null,{"$f":"COUNTIF(入居者情報入力シート!G6:G505,\"要介護５\")","v":0}]
[]
[null,null,"【入居前住所地(人)】"]
[null,null,"①住宅所在市町村",null,"② ①以外の神奈川県内",null,"③ 神奈川県外"]
[null,null,{"$f":"COUNTIF(入居者情報入力シート!H6:H505,\"住宅と同じ市町村\")","v":0},null,{"$f":"COUNTIF(入居者情報入力シート!H6:H505,\"県内の異なる市町村\")","v":0},null,{"$f":"COUNTIF(入居者情報入力シート!H6:H505,\"神奈川県外\")","v":0}]